BEGIN:VCALENDAR
VERSION:2.0
PRODID:-//Kuća umjetnosti Arsen - ECPv5.5.0//NONSGML v1.0//EN
CALSCALE:GREGORIAN
METHOD:PUBLISH
X-WR-CALNAME:Kuća umjetnosti Arsen
X-ORIGINAL-URL:https://kucaarsen.hr
X-WR-CALDESC:Događaji za Kuća umjetnosti Arsen
BEGIN:VTIMEZONE
TZID:Europe/Zagreb
BEGIN:DAYLIGHT
TZOFFSETFROM:+0100
TZOFFSETTO:+0200
TZNAME:CEST
DTSTART:20250330T010000
END:DAYLIGHT
BEGIN:STANDARD
TZOFFSETFROM:+0200
TZOFFSETTO:+0100
TZNAME:CET
DTSTART:20251026T010000
END:STANDARD
END:VTIMEZONE
BEGIN:VEVENT
DTSTART;TZID=Europe/Zagreb:20251106T180000
DTEND;TZID=Europe/Zagreb:20251106T180000
DTSTAMP:20260420T090402
CREATED:20251010T122119Z
LAST-MODIFIED:20251010T122119Z
UID:12025-1762452000-1762452000@kucaarsen.hr
SUMMARY:Zvuci\, slike i riječi Mediterana: Projekcija filma 'Funne - Djevojke koje sanjaju more'
DESCRIPTION:Kuća umjetnosti Arsen u listopadu i studenome bit će domaćin kulturnog programa ‘Zvuci\, slike i riječi Mediterana’\, koji kroz glazbu\, film i kazalište slavi mediteranski identitet te bogatstvo kultura\, običaja i zajednica koje ga oblikuju. \nDruga večer programa „Zvuci\, slike i riječi Mediterana“ donosi filmsku projekciju u četvrtak\, 6. studenoga u 18 sati koja istražuje duh Mediterana\, snove i prolaznost vremena. \n„Funne: Djevojke koje sanjaju more“\, redateljice Katije Bernardi\, humoristični je i topli dokumentarac o dvanaest prijateljica iz talijanskog mjesta Daone u brdima Južnog Tirola koje odluče ostvariti svoj životni san – po prvi put vidjeti more. Na čelu skupine je 71-godišnja Erminia\, čija energija i optimizam pokreću niz duhovitih i srčanih situacija dok žene prikupljaju novac za svoje nezaboravno putovanje. Film je vedra i inspirativna priča o prijateljstvu\, upornosti i radosti života\, koja potvrđuje da nikada nije kasno ostvariti snove. \nUlaz na projekciju je besplatan\, a besplatne ulaznice mogu se preuzeti na blagajni Kuće umjetnosti Arsen od ponedjeljka\, 13. listopada. Broj mjesta je ograničen. \nProgram se održava uz financijsku potporu Grada Šibenika i Nacionalne zaklade za razvoj civilnoga društva.
URL:https://kucaarsen.hr/event/zvuci-slike-i-rijeci-mediterana/
LOCATION:Kuća umjetnosti Arsen\, Obala hrvatske mornarice 1\, Šibenik\, 22000
CATEGORIES:Film
ATTACH;FMTTYPE=image/png:https://kucaarsen.hr/wp-content/uploads/2025/10/Predstava.png
GEO:43.7324192;15.8902935
X-APPLE-STRUCTURED-LOCATION;VALUE=URI;X-ADDRESS=Kuća umjetnosti Arsen Obala hrvatske mornarice 1 Šibenik 22000;X-APPLE-RADIUS=500;X-TITLE=Obala hrvatske mornarice 1:geo:15.8902935,43.7324192
END:VEVENT
END:VCALENDAR