BEGIN:VCALENDAR
VERSION:2.0
PRODID:-//Kuća umjetnosti Arsen - ECPv5.5.0//NONSGML v1.0//EN
CALSCALE:GREGORIAN
METHOD:PUBLISH
X-WR-CALNAME:Kuća umjetnosti Arsen
X-ORIGINAL-URL:https://kucaarsen.hr
X-WR-CALDESC:Događaji za Kuća umjetnosti Arsen
BEGIN:VTIMEZONE
TZID:Europe/Zagreb
BEGIN:DAYLIGHT
TZOFFSETFROM:+0100
TZOFFSETTO:+0200
TZNAME:CEST
DTSTART:20250330T010000
END:DAYLIGHT
BEGIN:STANDARD
TZOFFSETFROM:+0200
TZOFFSETTO:+0100
TZNAME:CET
DTSTART:20251026T010000
END:STANDARD
END:VTIMEZONE
BEGIN:VEVENT
DTSTART;TZID=Europe/Zagreb:20251106T200000
DTEND;TZID=Europe/Zagreb:20251106T200000
DTSTAMP:20260420T090453
CREATED:20251010T122920Z
LAST-MODIFIED:20251031T093122Z
UID:12028-1762459200-1762459200@kucaarsen.hr
SUMMARY:Zvuci\, slike i riječi Mediterana: Projekcija filma Himera
DESCRIPTION:Kuća umjetnosti Arsen u listopadu i studenome bit će domaćin kulturnog programa ‘Zvuci\, slike i riječi Mediterana’\, koji kroz glazbu\, film i kazalište slavi mediteranski identitet te bogatstvo kultura\, običaja i zajednica koje ga oblikuju. \nDruga večer programa „Zvuci\, slike i riječi Mediterana“ donosi filmsku projekciju filma La Chimera u četvrtak\, 6. studenoga u 20 sati. Ova poetična filmska priča istražuje duh Mediterana\, snove i prolaznost vremena. \nFilm Himera potpisuje redateljica Alice Rohrwacher\, suvremena talijanska autorica prepoznata po svom osebujnom spoju magičnog realizma i lirskog filmskog izraza. \nRadnja prati Arthura (Josh O’Connor)\, melankoličnog Engleza i bivšeg arheologa koji 1980-ih u Toskani okuplja skupinu pljačkaša drevnih etruščanskih grobnica. U društvu likova na granici prošlosti i sadašnjosti\, živih i mrtvih\, film postaje bajkovita meditacija o sjećanju\, gubitku i potrazi za neuhvatljivim idealom – vlastitom himerom.\nUz O’Connora\, u filmu glume Isabella Rossellini i Alba Rohrwacher\, a dojmljiva kamera Hélène Louvart donosi prepoznatljivu sanjivu estetiku. \nPubliku očekuje filmska večer puna emocija\, mediteranskog duha i priča koje slave snove\, uspomene i neugaslu znatiželju prema životu. \nUlaz na projekciju je besplatan\, a besplatne ulaznice mogu se preuzeti na blagajni Kuće umjetnosti Arsen od ponedjeljka\, 13. listopada. Broj mjesta je ograničen. \nProgram se održava uz financijsku potporu Grada Šibenika i Nacionalne zaklade za razvoj civilnoga društva.
URL:https://kucaarsen.hr/event/zvuci-slike-i-rijeci-mediterana-2/
LOCATION:Kuća umjetnosti Arsen\, Obala hrvatske mornarice 1\, Šibenik\, 22000
CATEGORIES:Film
ATTACH;FMTTYPE=image/jpeg:https://kucaarsen.hr/wp-content/uploads/2025/10/Film-2.jpg
GEO:43.7324192;15.8902935
X-APPLE-STRUCTURED-LOCATION;VALUE=URI;X-ADDRESS=Kuća umjetnosti Arsen Obala hrvatske mornarice 1 Šibenik 22000;X-APPLE-RADIUS=500;X-TITLE=Obala hrvatske mornarice 1:geo:15.8902935,43.7324192
END:VEVENT
END:VCALENDAR