BEGIN:VCALENDAR
VERSION:2.0
PRODID:-//Kuća umjetnosti Arsen - ECPv5.5.0//NONSGML v1.0//EN
CALSCALE:GREGORIAN
METHOD:PUBLISH
X-WR-CALNAME:Kuća umjetnosti Arsen
X-ORIGINAL-URL:https://kucaarsen.hr
X-WR-CALDESC:Događaji za Kuća umjetnosti Arsen
BEGIN:VTIMEZONE
TZID:Europe/Zagreb
BEGIN:DAYLIGHT
TZOFFSETFROM:+0100
TZOFFSETTO:+0200
TZNAME:CEST
DTSTART:20260329T010000
END:DAYLIGHT
BEGIN:STANDARD
TZOFFSETFROM:+0200
TZOFFSETTO:+0100
TZNAME:CET
DTSTART:20261025T010000
END:STANDARD
END:VTIMEZONE
BEGIN:VEVENT
DTSTART;TZID=Europe/Zagreb:20260430T210000
DTEND;TZID=Europe/Zagreb:20260430T210000
DTSTAMP:20260424T081413
CREATED:20260303T134142Z
LAST-MODIFIED:20260303T134142Z
UID:12781-1777582800-1777582800@kucaarsen.hr
SUMMARY:Zoran Majstorović & Atma Mundi Next Gen
DESCRIPTION:U Kući umjetnosti Arsen 30. travnja na poseban ćemo način obilježiti Međunarodni dan jazza. Zoran Majstorović i njegov Atma Mundi Ensemble\, međunarodni etno-jazz sastav\, na novi svježiji način interpretirat će svoj nagrađeni album The Road to Skitacha iz 2016 na kojem je i posljednja glazbena snimka velikog Arsena Dedića. \n  \nObilježavanje desete obljetnice albuma koji je dobio nagradu Hrvatskog Društva Skladatelja za najbolje skladateljsko ostvarenje u hrvatskoj jazz glazbi za 2016. godinu nosi poseban glazbeni pečat. Sve skladbe na tom albumu odsvirao je\, uz ostale glazbenike\, i Matija Dedić\, a bonus track albuma je skladba “1947” autora Sergia Endriga koja je snimljena zajedno sa Arsenom i Matijom te je ujedno i posljednja glazbena snimka Arsena Dedića. \nAtma Mundi Ensemble zamišljen je prvenstveno kao kontinuirana suradnja hrvatskih jazz i etno glazbenika te koncertno djeluje u Hrvatskoj i inozemstvu. Izvode originalnu glazbu baziranu na tradicijama iz raznih dijelova svijeta\, ali i hrvatsku tradicionalnu glazbu u modernim aranžmanima. Sastav je to koji svojim bogatim instrumentarijem putuje kroz svjetsku glazbu i to putovanje na jedinstven način dočarava slušateljima. \nU Kući umjetnosti Arsen Atma Mundi Ensemble nastupit će u sastavu: Zoran Majstorović (gitara\, oud\, kora\, kompozicije)\, Giovanni Nevyjel (truba)\, Jernej Bregar (saksofon)\, Ivor Lakić (klavijature)\, Giacomo Ieraci (bas) i  Fabricio Bertrami (bubnjevi). \n  \nULAZNICE \nZa Klub prijatelja 7€ / redovna cijena 10€ \nUlaznice po redovnoj cijeni dostupne su online i na blagajni Kuće umjetnosti Arsen. \nČlanovi Kluba prijatelja ostvaruju 30% popusta na blagajni uz predočenje važeće članske iskaznice.
URL:https://kucaarsen.hr/event/zoran-majstorovic/
LOCATION:Kuća umjetnosti Arsen\, Obala hrvatske mornarice 1\, Šibenik\, 22000
CATEGORIES:Glazba
ATTACH;FMTTYPE=image/jpeg:https://kucaarsen.hr/wp-content/uploads/2026/03/arsen_jazz_1920_1080_zoran_majstorovic.jpg
GEO:43.7324192;15.8902935
X-APPLE-STRUCTURED-LOCATION;VALUE=URI;X-ADDRESS=Kuća umjetnosti Arsen Obala hrvatske mornarice 1 Šibenik 22000;X-APPLE-RADIUS=500;X-TITLE=Obala hrvatske mornarice 1:geo:15.8902935,43.7324192
END:VEVENT
END:VCALENDAR