BEGIN:VCALENDAR
VERSION:2.0
PRODID:-//Kuća umjetnosti Arsen - ECPv5.5.0//NONSGML v1.0//EN
CALSCALE:GREGORIAN
METHOD:PUBLISH
X-WR-CALNAME:Kuća umjetnosti Arsen
X-ORIGINAL-URL:https://kucaarsen.hr
X-WR-CALDESC:Događaji za Kuća umjetnosti Arsen
BEGIN:VTIMEZONE
TZID:Europe/Zagreb
BEGIN:DAYLIGHT
TZOFFSETFROM:+0100
TZOFFSETTO:+0200
TZNAME:CEST
DTSTART:20220327T010000
END:DAYLIGHT
BEGIN:STANDARD
TZOFFSETFROM:+0200
TZOFFSETTO:+0100
TZNAME:CET
DTSTART:20221030T010000
END:STANDARD
END:VTIMEZONE
BEGIN:VEVENT
DTSTART;TZID=Europe/Zagreb:20220130T200000
DTEND;TZID=Europe/Zagreb:20220130T200000
DTSTAMP:20260424T123850
CREATED:20220112T135227Z
LAST-MODIFIED:20220112T135227Z
UID:5522-1643572800-1643572800@kucaarsen.hr
SUMMARY:Vlatko Štampar: Zabezeknut
DESCRIPTION:Dragi ljudi kao što vidite\, stvari se generalno raspadaju.\nLaganja\, muljanja\, ubojstva\, krađe i varanja\, plus zabrane\, strah i novo normalno. Sve znate.\nAli treba gledati stvari sa svjetlije strane. Treba ne razmišljati o tome.\nKako? Jednostavno. Zabezekneš nekog nečim dobrim.\n– Vlatko \n  \nTKO JE VLATKO ŠTAMPAR?\nZa one koji ga nisu “probali”\, Vlatko će ostati nikad pronađeno utjelovljenje svih onih suludih misli koje svatko od nas pomišlja u onom dijelu uma koji s razlogom ignoriramo. Za one koji su ga doživjeli\, Vlatko je bio i ostaje ventil\, pipa\, sasvim suludih asocijacija koje u kombinaciji s njegovom nezamjenjivom manirom neizbježno mame smijeh i čine ga jednim od ponajboljih komičara “na ovim prostorima”. Osim u Mađarskoj. \n  \nULAZNICA: 70 kn \nFIZIČKO PRODAJNO MJESTO: blagajna Arsena (od 9 do 21 sat) \nNa blagajni Arsen članovi Kluba prijatelja šibenskih tvrđava uz predočenje važeće članske iskaznice ostvaruju popust pri kupnji ulaznica – cijena je 50 kuna. \nUz ulaznicu je potrebna i COVID potvrda – detalji na na linku.
URL:https://kucaarsen.hr/event/vlatko-stampar-zabezeknut/
LOCATION:Kuća umjetnosti Arsen\, Obala hrvatske mornarice 1\, Šibenik\, 22000
CATEGORIES:Najave
ATTACH;FMTTYPE=image/jpeg:https://kucaarsen.hr/wp-content/uploads/2022/01/fb.jpg
GEO:43.7324192;15.8902935
X-APPLE-STRUCTURED-LOCATION;VALUE=URI;X-ADDRESS=Kuća umjetnosti Arsen Obala hrvatske mornarice 1 Šibenik 22000;X-APPLE-RADIUS=500;X-TITLE=Obala hrvatske mornarice 1:geo:15.8902935,43.7324192
END:VEVENT
END:VCALENDAR