BEGIN:VCALENDAR
VERSION:2.0
PRODID:-//Kuća umjetnosti Arsen - ECPv5.5.0//NONSGML v1.0//EN
CALSCALE:GREGORIAN
METHOD:PUBLISH
X-WR-CALNAME:Kuća umjetnosti Arsen
X-ORIGINAL-URL:https://kucaarsen.hr
X-WR-CALDESC:Događaji za Kuća umjetnosti Arsen
BEGIN:VTIMEZONE
TZID:Europe/Zagreb
BEGIN:DAYLIGHT
TZOFFSETFROM:+0100
TZOFFSETTO:+0200
TZNAME:CEST
DTSTART:20210328T010000
END:DAYLIGHT
BEGIN:STANDARD
TZOFFSETFROM:+0200
TZOFFSETTO:+0100
TZNAME:CET
DTSTART:20211031T010000
END:STANDARD
END:VTIMEZONE
BEGIN:VEVENT
DTSTART;TZID=Europe/Zagreb:20210613T110000
DTEND;TZID=Europe/Zagreb:20210613T110000
DTSTAMP:20260424T105832
CREATED:20210528T080335Z
LAST-MODIFIED:20210607T180656Z
UID:4106-1623582000-1623582000@kucaarsen.hr
SUMMARY:Vlak u snijegu
DESCRIPTION:Jugoslavija\, 1976.\, 84′\nRežija: Mate Relja\nScenarij: Mate Relja \nUloge: Slavko Štimac\, Gordana Inkret\, Željko Malčić\, Edo Peročević \n  \nFilmska adaptacija domaćeg literarnog klasika za djecu\, istoimenog romana Mate Lovraka\, prati skupinu seoske djece koja odlaze na izlet kako bi posjetila tiskaru časopisa Smilje. No\, njihov se učitelj razboli i mora ostati u gradu\, pa se mala razredna zajednica vraća bez njegove pratnje. Povratak s izleta pretvara se u pravu avanturu nakon što vlak kojim putuju zaglavi u snijegu. Učenici preuzmu inicijativu i razgrćući snijeg pokušavaju se izbaviti iz nezavidne situacije. \nOva priča o zajedništvu koje može prevladati sve probleme jedan je od najpoznatijih i najpopularnijih filmova za djecu u jugoslavenskoj i hrvatskoj kinematografiji\, a glumačku skupinu u filmu predvodi i tadašnja velika dječja filmska zvijezda\, Slavko Štimac. Šarmantna glazba\, koju je za ovaj film skladao Arsen Dedić\, postala je popularna podjednako kao i film\, pa su čitave generacije djece odrastale uz melodiju Himne zadrugara koju je Arsen uglazbio na stihove Drage Britvića: „kad se male ruke slože / sve se može\, sve se može“ i dan-danas je univerzalna poruka o zajedništvu i prijateljstvu. Posljednji Reljin cjelovečernji film na Pulskom festivalu osvojio je nagradu publike. \n  \n(Tekst: J.P.)
URL:https://kucaarsen.hr/event/vlak-u-snijegu/
LOCATION:Kuća umjetnosti Arsen\, Obala hrvatske mornarice 1\, Šibenik\, 22000
CATEGORIES:Film
ATTACH;FMTTYPE=image/jpeg:https://kucaarsen.hr/wp-content/uploads/2021/05/film-vlak-u-snijegu-kuca-arsen.jpg
GEO:43.7324192;15.8902935
X-APPLE-STRUCTURED-LOCATION;VALUE=URI;X-ADDRESS=Kuća umjetnosti Arsen Obala hrvatske mornarice 1 Šibenik 22000;X-APPLE-RADIUS=500;X-TITLE=Obala hrvatske mornarice 1:geo:15.8902935,43.7324192
END:VEVENT
END:VCALENDAR