BEGIN:VCALENDAR
VERSION:2.0
PRODID:-//Kuća umjetnosti Arsen - ECPv5.5.0//NONSGML v1.0//EN
CALSCALE:GREGORIAN
METHOD:PUBLISH
X-WR-CALNAME:Kuća umjetnosti Arsen
X-ORIGINAL-URL:https://kucaarsen.hr
X-WR-CALDESC:Događaji za Kuća umjetnosti Arsen
BEGIN:VTIMEZONE
TZID:Europe/Zagreb
BEGIN:DAYLIGHT
TZOFFSETFROM:+0100
TZOFFSETTO:+0200
TZNAME:CEST
DTSTART:20240331T010000
END:DAYLIGHT
BEGIN:STANDARD
TZOFFSETFROM:+0200
TZOFFSETTO:+0100
TZNAME:CET
DTSTART:20241027T010000
END:STANDARD
END:VTIMEZONE
BEGIN:VEVENT
DTSTART;TZID=Europe/Zagreb:20240306T180000
DTEND;TZID=Europe/Zagreb:20240306T180000
DTSTAMP:20260422T111657
CREATED:20240227T135239Z
LAST-MODIFIED:20240227T142212Z
UID:9796-1709748000-1709748000@kucaarsen.hr
SUMMARY:Vitić pleše
DESCRIPTION:Vitić pleše\, r. Boris Bakal\, Hrvatska\, 2023.\, 90′ \n  \nDokumentarac filmaša i umjetnika Borisa Bakala\, nastajao tijekom petnaestak godina\, prati obnovu nebodera u Laginjinoj ulici u Zagrebu\, antologijsko djelo velikana naše modernističke arhitekture Ivana Vitića. Dva desetljeća duga borba stanara i suvlasnika stanova za obnovu tzv. šarenog nebodera prikazana je kroz arhivske snimke te svjedočanstva bivših i sadašnjih stanara Vitićeve zgrade\, arhitekata i aktivista\, a dramatična bitka odraz je šireg društveno-političkog konteksta koji uključuje kako nepoštivanje prava na stanovanje\, tako i sustavno zanemarivanje\, pa čak i uništavanje socijalističke arhitekture i urbanističkog nasljeđa. Tako jedna zagrebačka zgrada postaje ogledalo kolektivne društvene erozije vrijednosti i zajedništva\, a Vitić pleše prerasta u “neočekivano emotivan film i fantastičnu fresku jednog društva u tranziciji” (Pavica Knezović Belan\, Jutarnji list). \n \nFilm o borbi za obnovu jedne zgrade koja time postaje metafora društva. \n\n\n\n\nPriča o svrsi i uzaludnosti pojedinačnog zalaganja za opće dobro. \nPriča o nama\, drugima i prostoru između. \n  \n\n\nULAZNICE:  \nZa Klub prijatelja 3\,50€ (22\,60 kn) / redovna cijena 4€  (26\,37 kn) \nUlaznice po redovnoj cijeni dostupne su online i na blagajni Kuće umjetnosti Arsen. \nČlanovi Kluba prijatelja šibenskih tvrđava popust ostvaruju na fizičkim prodajnim mjestima uz predočenje važeće članske iskaznice.
URL:https://kucaarsen.hr/event/vitic-plese-2/
LOCATION:Kuća umjetnosti Arsen\, Obala hrvatske mornarice 1\, Šibenik\, 22000
CATEGORIES:Film
ATTACH;FMTTYPE=image/jpeg:https://kucaarsen.hr/wp-content/uploads/2024/01/VITIC-PLESE.jpg
GEO:43.7324192;15.8902935
X-APPLE-STRUCTURED-LOCATION;VALUE=URI;X-ADDRESS=Kuća umjetnosti Arsen Obala hrvatske mornarice 1 Šibenik 22000;X-APPLE-RADIUS=500;X-TITLE=Obala hrvatske mornarice 1:geo:15.8902935,43.7324192
END:VEVENT
END:VCALENDAR