BEGIN:VCALENDAR
VERSION:2.0
PRODID:-//Kuća umjetnosti Arsen - ECPv5.5.0//NONSGML v1.0//EN
CALSCALE:GREGORIAN
METHOD:PUBLISH
X-WR-CALNAME:Kuća umjetnosti Arsen
X-ORIGINAL-URL:https://kucaarsen.hr
X-WR-CALDESC:Događaji za Kuća umjetnosti Arsen
BEGIN:VTIMEZONE
TZID:Europe/Zagreb
BEGIN:DAYLIGHT
TZOFFSETFROM:+0100
TZOFFSETTO:+0200
TZNAME:CEST
DTSTART:20250330T010000
END:DAYLIGHT
BEGIN:STANDARD
TZOFFSETFROM:+0200
TZOFFSETTO:+0100
TZNAME:CET
DTSTART:20251026T010000
END:STANDARD
END:VTIMEZONE
BEGIN:VEVENT
DTSTART;TZID=Europe/Zagreb:20251227T110000
DTEND;TZID=Europe/Zagreb:20251227T110000
DTSTAMP:20260424T155406
CREATED:20251201T090502Z
LAST-MODIFIED:20251201T090502Z
UID:12263-1766833200-1766833200@kucaarsen.hr
SUMMARY:Veseli adventski show
DESCRIPTION:O PREDSTAVI \nAdventski show klauna Spartanka ove godine ugošćuje posebnog gosta\, tukana Tukija koji postaje Spartankov pomoćnik u trikovima i čarolijama. Sve je obojano blagdanskim štihom\, a Spartanko i Tuki zajedno s djecom uče da se istinska sreća ne nalazi samo u poklonima\, već u zajedništvu i ljubavi. \nSve skupa je začinjeno čarobnim trikovima\, klaunskim gegovima\, prigodnim pjesmicama i interaktivnim igrama. \n  \nDOB: 4+ \n  \nULAZNICE \nZa Klub prijatelja 3\,50€/ redovna cijena 5\,00€  \nUlaznice po redovnoj cijeni dostupne su online i na blagajni Kuće umjetnosti Arsen. \nČlanovi  Kluba prijatelja popust ostvaruju uz predočenje važeće članske iskaznice na blagajni Kuće umjetnosti Arsen. \nKako bi djeca na zabavan način bila potaknuta na redovito sudjelovanje u predstavama i filmskim projekcijama\, osmišljen je program vjernosti Bubamarac klub o kojem više možete pročitati OVDJE.
URL:https://kucaarsen.hr/event/veseli-adventski-show/
LOCATION:Kuća umjetnosti Arsen\, Obala hrvatske mornarice 1\, Šibenik\, 22000
CATEGORIES:Djeca i mladi,Kazalište
ATTACH;FMTTYPE=image/png:https://kucaarsen.hr/wp-content/uploads/2025/12/BUBAMARAC-Predstave-4.png
GEO:43.7324192;15.8902935
X-APPLE-STRUCTURED-LOCATION;VALUE=URI;X-ADDRESS=Kuća umjetnosti Arsen Obala hrvatske mornarice 1 Šibenik 22000;X-APPLE-RADIUS=500;X-TITLE=Obala hrvatske mornarice 1:geo:15.8902935,43.7324192
END:VEVENT
END:VCALENDAR