BEGIN:VCALENDAR
VERSION:2.0
PRODID:-//Kuća umjetnosti Arsen - ECPv5.5.0//NONSGML v1.0//EN
CALSCALE:GREGORIAN
METHOD:PUBLISH
X-WR-CALNAME:Kuća umjetnosti Arsen
X-ORIGINAL-URL:https://kucaarsen.hr
X-WR-CALDESC:Događaji za Kuća umjetnosti Arsen
BEGIN:VTIMEZONE
TZID:Europe/Zagreb
BEGIN:DAYLIGHT
TZOFFSETFROM:+0100
TZOFFSETTO:+0200
TZNAME:CEST
DTSTART:20250330T010000
END:DAYLIGHT
BEGIN:STANDARD
TZOFFSETFROM:+0200
TZOFFSETTO:+0100
TZNAME:CET
DTSTART:20251026T010000
END:STANDARD
END:VTIMEZONE
BEGIN:VEVENT
DTSTART;TZID=Europe/Zagreb:20250309T110000
DTEND;TZID=Europe/Zagreb:20250309T110000
DTSTAMP:20260423T164227
CREATED:20250226T104055Z
LAST-MODIFIED:20250306T103924Z
UID:11389-1741518000-1741518000@kucaarsen.hr
SUMMARY:Bubamarac x Ženijalni dani x KinoKino: Veliki život
DESCRIPTION:Veliki život (Život k sežrání)\, r. Kristina Dufková; Češka\, Slovačka\, Francuska; 2024.\, 80′\, titl\, preporučeni uzrast 10+ \nKako je odrastati kada te svi zovu debelim? I je li dijeta zaista pravi odgovor na sve? Ovaj simpatičan i zabavan animirani film o odrastanju na nježan se i slojevit način bavi temom dječje pretilosti\, pritom uspješno izbjegavajući zamke stereotipa. \nSredišnji je lik Ben\, koji je tek ušao u pubertet i već mu tijelo radi probleme. Ili točnije\, njegova težina. Djeca mu se rugaju\, a njegovi razvedeni roditelji posve su izgubljeni. Brine se čak i medicinska sestra. Iako Ben gotovo ništa ne voli tako kao finu hranu\, odluči krenuti na dijetu. \nVeliki život prikazan je na prestižnim svjetskim festivalima u Locarnu\, Karlovym Varyma i Annecyju\, gdje je osvojio nagradu žirija u programu Contrechamp\, a bio je nominiran i za Europsku filmsku nagradu u dvije kategorije: za najbolji europski film i najbolji animirani film. \n  \nFilm se prikazuje u sklopu programa Ženijalni dani Kino mreže i u suradnji s programom KinoKino\, a nakon projekcije slijedi razgovor s talentiranom filmašicom Anom Marijom Marinov. \nAna je s 10 godina sasvim slučajno dobila svoju prvu video kameru i od tada je zaražena virusom vizualnog pričanja priča. Službeno prvostupnica novinarstva\, magistra politologije\, na MET Film Schoolu u Berlinu završila je eksperimentalni film\, a u međuvremenu prošla brojne radionice od vizualne antropologije do filma u aktivizmu. Bavi se produkcijom na filmu\, nekada zakorači u područje režije i scenarija\, radi na filmskoj edukaciji za djecu i mlade i trudi se ne zapostavljati svoje prakse u području fotografije. Dosad je u Kući umjetnosti Arsen surađivala na vođenju filmske radionice Oslobođeni film i glumačkoj radionici Glumac ima vremena za Arsena zajedno s Jelenom Graovac Lučev i Leonom Lučevom. \n  \nULAZNICE: 3 € \nUlaznice su dostupne online i na blagajni Kuće umjetnosti Arsen. \n\n 
URL:https://kucaarsen.hr/event/veliki-zivot/
LOCATION:Kuća umjetnosti Arsen\, Obala hrvatske mornarice 1\, Šibenik\, 22000
CATEGORIES:Djeca i mladi,Film
ATTACH;FMTTYPE=image/jpeg:https://kucaarsen.hr/wp-content/uploads/2025/02/Veliki-zivot.jpg
GEO:43.7324192;15.8902935
X-APPLE-STRUCTURED-LOCATION;VALUE=URI;X-ADDRESS=Kuća umjetnosti Arsen Obala hrvatske mornarice 1 Šibenik 22000;X-APPLE-RADIUS=500;X-TITLE=Obala hrvatske mornarice 1:geo:15.8902935,43.7324192
END:VEVENT
END:VCALENDAR