BEGIN:VCALENDAR
VERSION:2.0
PRODID:-//Kuća umjetnosti Arsen - ECPv5.5.0//NONSGML v1.0//EN
CALSCALE:GREGORIAN
METHOD:PUBLISH
X-WR-CALNAME:Kuća umjetnosti Arsen
X-ORIGINAL-URL:https://kucaarsen.hr
X-WR-CALDESC:Događaji za Kuća umjetnosti Arsen
BEGIN:VTIMEZONE
TZID:Europe/Zagreb
BEGIN:DAYLIGHT
TZOFFSETFROM:+0100
TZOFFSETTO:+0200
TZNAME:CEST
DTSTART:20250330T010000
END:DAYLIGHT
BEGIN:STANDARD
TZOFFSETFROM:+0200
TZOFFSETTO:+0100
TZNAME:CET
DTSTART:20251026T010000
END:STANDARD
END:VTIMEZONE
BEGIN:VEVENT
DTSTART;TZID=Europe/Zagreb:20250222T193000
DTEND;TZID=Europe/Zagreb:20250222T193000
DTSTAMP:20260421T013512
CREATED:20250214T105345Z
LAST-MODIFIED:20250303T084424Z
UID:11322-1740252600-1740252600@kucaarsen.hr
SUMMARY:Ususret Oscarima: Brutalist
DESCRIPTION:Brutalist\, r. Brady Corbet; SAD\, Velika Britanija\, Mađarska; 2024.; 215′ \n \nS deset nominacija za Oscara\, film o briljantnom mađarskom arhitektonskom vizionaru slovi kao najveći favorit predstojeće dodjele. U gotovo jednoglasnim hvalospjevima kritike Brutalist je opisan kao “monumentalno postignuće” (The Guardian)\, “veličanstven film (…) i intenzivno\, uznemirujuće i estetski vibrantno iskustvo” (Roger Ebert) te “velika i hrabra priča o imigrantskom iskustvu i poslijeratnom američkom snu” (Jacobin). \nSredinom 1940-ih arhitekt-vizionar László Toth i njegova supruga Erzsébet napuštaju Mađarsku\, kako bi pobjegli od traumatičnih sjećanja na koncentracijski logor Buchenwald te izgradili novi život u Sjedinjenim Američkim Državama. Tothovo oživljavanje arhitektonske karijere poklopit će se s rađanjem moderne Amerike\, a veliku priliku dobit će s pojavom Harrisona Van Burrena\, bogatog industrijalca koji će mu ponuditi realizaciju dosad najambicioznijeg projekta\, u čijoj će realizaciji mnogo toga staviti na kocku. \nRedatelju Bradyju Corbetu za Brutalista je na Venecijanskom filmskom festivalu pripao Srebrni lav za najbolju režiju\, kao i Zlatni globus u istoj kategoriji. Film je ovjenačan i Zlatnim globusima za najbolju dramu i najbolju glavnu mušku ulogu (Adrien Brody). Brody je za izvedbu naslovne uloge nominiran i za Oscara\, kao i Felicity Jones te Guy Pearce u kategorijama najbolje sporedne ženske\, odnosno muške uloge. Brutalist se za nagradu Američke filmske akademije natječe i u kategorijama najboljeg filma\, režije\, originalnog scenarija\, fotografije\, montaže\, scenografije i glazbe. \n15-minutna pauza uključena je u trajanje filma. \n  \nULAZNICE: Za Klub prijatelja 3\,50 € / redovna cijena 4 €  \nUlaznice po redovnoj cijeni dostupne su online i na blagajni Kuće umjetnosti Arsen. \nČlanovi Kluba prijatelja popust ostvaruju na fizičkim prodajnim mjestima uz predočenje važeće članske iskaznice. \n 
URL:https://kucaarsen.hr/event/ususret-oscarima-brutalist/
LOCATION:Kuća umjetnosti Arsen\, Obala hrvatske mornarice 1\, Šibenik\, 22000
CATEGORIES:Film
ATTACH;FMTTYPE=image/jpeg:https://kucaarsen.hr/wp-content/uploads/2025/02/Brutalist.jpg
GEO:43.7324192;15.8902935
X-APPLE-STRUCTURED-LOCATION;VALUE=URI;X-ADDRESS=Kuća umjetnosti Arsen Obala hrvatske mornarice 1 Šibenik 22000;X-APPLE-RADIUS=500;X-TITLE=Obala hrvatske mornarice 1:geo:15.8902935,43.7324192
END:VEVENT
END:VCALENDAR