BEGIN:VCALENDAR
VERSION:2.0
PRODID:-//Kuća umjetnosti Arsen - ECPv5.5.0//NONSGML v1.0//EN
CALSCALE:GREGORIAN
METHOD:PUBLISH
X-WR-CALNAME:Kuća umjetnosti Arsen
X-ORIGINAL-URL:https://kucaarsen.hr
X-WR-CALDESC:Događaji za Kuća umjetnosti Arsen
BEGIN:VTIMEZONE
TZID:Europe/Zagreb
BEGIN:DAYLIGHT
TZOFFSETFROM:+0100
TZOFFSETTO:+0200
TZNAME:CEST
DTSTART:20230326T010000
END:DAYLIGHT
BEGIN:STANDARD
TZOFFSETFROM:+0200
TZOFFSETTO:+0100
TZNAME:CET
DTSTART:20231029T010000
END:STANDARD
END:VTIMEZONE
BEGIN:VEVENT
DTSTART;TZID=Europe/Zagreb:20231101T200000
DTEND;TZID=Europe/Zagreb:20231101T200000
DTSTAMP:20260423T000023
CREATED:20231027T104507Z
LAST-MODIFIED:20231027T124911Z
UID:9015-1698868800-1698868800@kucaarsen.hr
SUMMARY:Ubojice cvjetnog mjeseca
DESCRIPTION:Ubojice cvjetnog mjeseca\, r. Martin Scorsese\, SAD\, 2023.\, 206′ (15) \nJedan od najutjecajnijih redatelja današnjice Martin Scorsese u svom novom filmu Ubojice cvjetnog mjeseca gledatelje vraća stotinu godina unatrag kako bi ispričao izvornu američku kriminalističku priču – priču o stvaranju nacije na krvavim temeljima. Kada su 1920-ih na području Oklahome otkrili naftu\, narod Osage iznenada je postao jedan od najbogatijih. No\, novi kapital u rukama američkih domorodaca odmah je privukao bijele došljake koji su manipulacijama\, iznuđivanjima\, pa i ubojstvima oduzeli Osageama stečeno bogatstvo. Tračak nade za postizanje pravde pojavljuje se tek nakon nekoliko godina\, kada se pojavi agent iz novoosnovanog Saveznog istražnog ureda (FBI). \nUtemeljen na istinitoj priči\, zapisanoj i u istoimenom publicističkom bestseleru Davida Granna\, film Ubojice cvjetnog mjeseca epska je kriminalistička saga o zločinu\, eksploataciji i moći. U glavnim ulogama nastupaju Scorseseovi glumački miljenici Leonardo DiCaprio i Robert De Niro. \nULAZNICE: Za Klub prijatelje 3€ (22\,60 kn) / redovna cijena 3\,50€  (26\,37 kn) \nUlaznice po redovnoj cijeni dostupne su online i na blagajni Kuće umjetnosti Arsen. \nČlanovi Kluba prijatelja šibenskih tvrđava popust ostvaruju na fizičkim prodajnim mjestima uz predočenje važeće članske iskaznice. \n\n 
URL:https://kucaarsen.hr/event/ubojice-cvjetnog-mjeseca-2/
LOCATION:Kuća umjetnosti Arsen\, Obala hrvatske mornarice 1\, Šibenik\, 22000
CATEGORIES:Film
ATTACH;FMTTYPE=image/png:https://kucaarsen.hr/wp-content/uploads/2023/09/UBOJICE-CVJETNOG-MJESECA.png
GEO:43.7324192;15.8902935
X-APPLE-STRUCTURED-LOCATION;VALUE=URI;X-ADDRESS=Kuća umjetnosti Arsen Obala hrvatske mornarice 1 Šibenik 22000;X-APPLE-RADIUS=500;X-TITLE=Obala hrvatske mornarice 1:geo:15.8902935,43.7324192
END:VEVENT
END:VCALENDAR