BEGIN:VCALENDAR
VERSION:2.0
PRODID:-//Kuća umjetnosti Arsen - ECPv5.5.0//NONSGML v1.0//EN
CALSCALE:GREGORIAN
METHOD:PUBLISH
X-WR-CALNAME:Kuća umjetnosti Arsen
X-ORIGINAL-URL:https://kucaarsen.hr
X-WR-CALDESC:Događaji za Kuća umjetnosti Arsen
BEGIN:VTIMEZONE
TZID:Europe/Zagreb
BEGIN:DAYLIGHT
TZOFFSETFROM:+0100
TZOFFSETTO:+0200
TZNAME:CEST
DTSTART:20220327T010000
END:DAYLIGHT
BEGIN:STANDARD
TZOFFSETFROM:+0200
TZOFFSETTO:+0100
TZNAME:CET
DTSTART:20221030T010000
END:STANDARD
END:VTIMEZONE
BEGIN:VEVENT
DTSTART;TZID=Europe/Zagreb:20220116T110000
DTEND;TZID=Europe/Zagreb:20220116T110000
DTSTAMP:20260424T140827
CREATED:20211230T133958Z
LAST-MODIFIED:20211230T174508Z
UID:5420-1642330800-1642330800@kucaarsen.hr
SUMMARY:Tvornica snova
DESCRIPTION:Drømmebyggerne / Tvornica snova \nKim Hagen Jensen\, Danska\, 2020.\, 91′ \nanimirani\, sinkronizirano \n  \nDanski animirani film inteligentno je i zabavno ostvarenje o suvremenim obiteljima\, u čijem je središtu djevojčica Minna. \nNjezin se život preokrene naglavačke kada joj se u dom dosele tatina zaručnica Helena i njezina kći Jenny. Jedne noći\, Minna otkriva svijet iz mašte u kojem neobični graditelji stvaraju naše snove\, i doznaje kako se snovima može manipulirati. Ali uplitanje u snove ljudi ima strašne posljedice i kad Minna jedne noći ode predaleko\, Jenny se više ne može probuditi. Kako bi spasila svoju novu obitelj\, Minna se mora posljednji put otisnuti u svijet snova.
URL:https://kucaarsen.hr/event/tvornica-snova/
LOCATION:Kuća umjetnosti Arsen\, Obala hrvatske mornarice 1\, Šibenik\, 22000
CATEGORIES:Djeca i mladi,Film
ATTACH;FMTTYPE=image/jpeg:https://kucaarsen.hr/wp-content/uploads/2021/12/tvornica-snova-169.jpg
GEO:43.7324192;15.8902935
X-APPLE-STRUCTURED-LOCATION;VALUE=URI;X-ADDRESS=Kuća umjetnosti Arsen Obala hrvatske mornarice 1 Šibenik 22000;X-APPLE-RADIUS=500;X-TITLE=Obala hrvatske mornarice 1:geo:15.8902935,43.7324192
END:VEVENT
END:VCALENDAR