BEGIN:VCALENDAR
VERSION:2.0
PRODID:-//Kuća umjetnosti Arsen - ECPv5.5.0//NONSGML v1.0//EN
CALSCALE:GREGORIAN
METHOD:PUBLISH
X-WR-CALNAME:Kuća umjetnosti Arsen
X-ORIGINAL-URL:https://kucaarsen.hr
X-WR-CALDESC:Događaji za Kuća umjetnosti Arsen
BEGIN:VTIMEZONE
TZID:Europe/Zagreb
BEGIN:DAYLIGHT
TZOFFSETFROM:+0100
TZOFFSETTO:+0200
TZNAME:CEST
DTSTART:20230326T010000
END:DAYLIGHT
BEGIN:STANDARD
TZOFFSETFROM:+0200
TZOFFSETTO:+0100
TZNAME:CET
DTSTART:20231029T010000
END:STANDARD
END:VTIMEZONE
BEGIN:VEVENT
DTSTART;TZID=Europe/Zagreb:20230529T210000
DTEND;TZID=Europe/Zagreb:20230529T210000
DTSTAMP:20260420T190833
CREATED:20230428T092209Z
LAST-MODIFIED:20230428T092209Z
UID:8492-1685394000-1685394000@kucaarsen.hr
SUMMARY:Transformers
DESCRIPTION:TRANSFORMERS \nAutori i izvodači: Ida Jolić i Marin Lemić \nOblikovanje svjetla: Marino Frankola \nOblikovanje zvuka i odabir glazbe: Luka Gamulin \nFotografija: Iva Korenčić \nGrafičko oblikovanje: Iva Leustek \nProducent: Ivan Mrdjen \nPredstava Transformers polazi od ideje transformativnoga tijela nalazeći vokabular kojim se na razini tjelesne ekspresije\, uključujući pokret\, mimiku i glas\, uspostavlja komunikacija između dvaju entiteta. Transformativno tijelo jest tijelo u stalnoj mijeni koje se mijenja vođeno unutarnjim impulsima\, ali i potaknuto podražajima izvana\, svojim mijenama utječući i na promjenu okoline\, prostora i drugih tijela koja se u njegovoj blizini zatječu. U duetu Transformers istražuje se kako dva tijela\, dva ne do kraja definirana entiteta\, tijekom susreta preobražavaju jedno drugo\, ostaju li transformacijski procesi zasebni ili su zbog međudjelovanja nužno dijeljeni\, zrcale li se pojedinačni entiteti jedno u drugome ili se susretom promijenjeni međusobno udaljavaju. Možemo li se doista dokraja pojmiti? Kako tijelom i osjetilnošću razumijevati potrebe i htijenja drugoga tijela? Može li se tijelom komunicirati ono što jeziku izmiče? \nProjekt je podržan sredstvima Ministarstva kulture i realiziran u suradnji sa Zagrebačkim plesnim centrom unutar programa Koreospektar. \nULAZNICE: Za Klub prijatelja 4€ (30\,13) / redovna cijena 5€ (37\,67 kn) \nDostupne online\, u City Pointu i na blagajni Kuće umjetnosti Arsen. Članovi Kluba prijatelja šibenskih tvrđava uz predočenje važeće članske iskaznice pri kupnji ulaznica na fizičkim prodajnim mjestima ostvaruju popust. \nOstatak programa u Kući umjetnosti Arsen možete pogledati ovdje.
URL:https://kucaarsen.hr/event/transformers/
LOCATION:Kuća umjetnosti Arsen\, Obala hrvatske mornarice 1\, Šibenik\, 22000
CATEGORIES:Ples
ATTACH;FMTTYPE=image/jpeg:https://kucaarsen.hr/wp-content/uploads/2023/04/2.2-3-of-11-1.jpg
GEO:43.7324192;15.8902935
X-APPLE-STRUCTURED-LOCATION;VALUE=URI;X-ADDRESS=Kuća umjetnosti Arsen Obala hrvatske mornarice 1 Šibenik 22000;X-APPLE-RADIUS=500;X-TITLE=Obala hrvatske mornarice 1:geo:15.8902935,43.7324192
END:VEVENT
END:VCALENDAR