BEGIN:VCALENDAR
VERSION:2.0
PRODID:-//Kuća umjetnosti Arsen - ECPv5.5.0//NONSGML v1.0//EN
CALSCALE:GREGORIAN
METHOD:PUBLISH
X-WR-CALNAME:Kuća umjetnosti Arsen
X-ORIGINAL-URL:https://kucaarsen.hr
X-WR-CALDESC:Događaji za Kuća umjetnosti Arsen
BEGIN:VTIMEZONE
TZID:Europe/Zagreb
BEGIN:DAYLIGHT
TZOFFSETFROM:+0100
TZOFFSETTO:+0200
TZNAME:CEST
DTSTART:20240331T010000
END:DAYLIGHT
BEGIN:STANDARD
TZOFFSETFROM:+0200
TZOFFSETTO:+0100
TZNAME:CET
DTSTART:20241027T010000
END:STANDARD
END:VTIMEZONE
BEGIN:VEVENT
DTSTART;TZID=Europe/Zagreb:20241130T180000
DTEND;TZID=Europe/Zagreb:20241130T180000
DTSTAMP:20260421T114054
CREATED:20241031T080030Z
LAST-MODIFIED:20241031T080113Z
UID:10857-1732989600-1732989600@kucaarsen.hr
SUMMARY:The Apprentice: Priča o Trumpu
DESCRIPTION:The Apprentice: Priča o Trumpu\, r. Ali Abbasi\, SAD\, 2024.\, 120′ \nRedateljsko-scenaristički tandem – iranski filmaš s danskom adresom Ali Abbasi (Sveti pauk\, 2022.; Granica\, 2018.) i dugogodišnji politički dopisnik Vanity Faira Gabriel Sherman – donosi priču o tome kako je ambiciozni mogul na tržištu nekretnina postao vodeća osoba Sjedinjenih Država i jedan od najkontroverznijih političkih figura današnjice. Priča počinje u New Yorku 1970-ih\, gdje ambiciozni Donald J. Trump nastoji izaći iz sjene svog moćnog oca. Na početcima karijere upoznaje Royja Cohna\, političkog fiksera i desničarskog odvjetnika koji mu postaje glavni mentor. U njihovoj faustovskoj nagodbi\, Cohn uči Trumpa kako steći bogatstvo i moć putem prijevare\, zastrašivanja i medijske manipulacije. Ostatak je više od povijesti – aktualna stvarnost. \nNakon premijere na filmskom festivalu u Cannesu\, film u distribuciju stiže neposredno uoči predsjedničkih izbora u SAD-u\, praćen ogorčenim komentarima Trumpa i prijetnjama tužbama njegovih odvjetnika. Donalda Trumpa tumači Sebastian Stan\, publici poznat po ulozi Buckyja Barnesa/Ratnika zime iz Marvelovih filmova. Dobitnik Emmyja i Zlatnog globusa Jeremy Strong\, najpoznatiji po ulozi Kendalla Royja iz serije Nasljeđe\, tumači zloglasnog odvjetnika Royja Cohna\, dok se u ulozi Ivane Trump nalazi za Oscara nominirana Maria Bakalova (Borat 2\, 2020.). \n  \nULAZNICE: Za Klub prijatelja 3\,50€ / redovna cijena 4€  \nUlaznice po redovnoj cijeni dostupne su online i na blagajni Kuće umjetnosti Arsen. \nČlanovi Kluba prijatelja popust ostvaruju na fizičkim prodajnim mjestima uz predočenje važeće članske iskaznice. \n 
URL:https://kucaarsen.hr/event/the-apprentice-prica-o-trumpu-2/
LOCATION:Kuća umjetnosti Arsen\, Obala hrvatske mornarice 1\, Šibenik\, 22000
CATEGORIES:Film
ATTACH;FMTTYPE=image/jpeg:https://kucaarsen.hr/wp-content/uploads/2024/10/The-apprentice.jpg
GEO:43.7324192;15.8902935
X-APPLE-STRUCTURED-LOCATION;VALUE=URI;X-ADDRESS=Kuća umjetnosti Arsen Obala hrvatske mornarice 1 Šibenik 22000;X-APPLE-RADIUS=500;X-TITLE=Obala hrvatske mornarice 1:geo:15.8902935,43.7324192
END:VEVENT
END:VCALENDAR