BEGIN:VCALENDAR
VERSION:2.0
PRODID:-//Kuća umjetnosti Arsen - ECPv5.5.0//NONSGML v1.0//EN
CALSCALE:GREGORIAN
METHOD:PUBLISH
X-WR-CALNAME:Kuća umjetnosti Arsen
X-ORIGINAL-URL:https://kucaarsen.hr
X-WR-CALDESC:Događaji za Kuća umjetnosti Arsen
BEGIN:VTIMEZONE
TZID:Europe/Zagreb
BEGIN:DAYLIGHT
TZOFFSETFROM:+0100
TZOFFSETTO:+0200
TZNAME:CEST
DTSTART:20230326T010000
END:DAYLIGHT
BEGIN:STANDARD
TZOFFSETFROM:+0200
TZOFFSETTO:+0100
TZNAME:CET
DTSTART:20231029T010000
END:STANDARD
END:VTIMEZONE
BEGIN:VEVENT
DTSTART;TZID=Europe/Zagreb:20230426T180000
DTEND;TZID=Europe/Zagreb:20230426T180000
DTSTAMP:20260423T044906
CREATED:20230330T073910Z
LAST-MODIFIED:20230330T114641Z
UID:8351-1682532000-1682532000@kucaarsen.hr
SUMMARY:Sveti pauk
DESCRIPTION:Sveti pauk\, r. Ali Abbasi\, Danska\, Švedska\, Francuska\, Njemačka\, 2022.\, 117’ (18) \nIzrazito napeta kriminalistička drama Sveti Pauk temeljena je na istinitom slučaju serijskog ubojice Saeeda Hanaeija koji je tijekom 2000. i 2001. godine ubio 16 žena u iranskom gradu Mashhadu. Režiju potpisuje Ali Abbasi\, cijenjeni iransko-danski autor (Granica) i jedan od redatelja popularnog serijala Last of Us\, koji je na scenariju i samom filmu radio više od 20 godina\, na prvom mjestu potaknut da učini nešto po pitanju mizoginije ukorijenjene u društvo Irana. Iako mu je umjetničko djelovanje bilo politički motivirano\, Abbasi naglašava da je s filmom prije svega htio postići da publika uroni u kinematografsko iskustvo – ‘To nije film o lošim iranskim vlastima ili o teškoj poziciji žena – iako je to istina – već putovanje u tamu\, zemlju i jezik koju možda ne poznajete\, ali ćete moći razumjeti.’  Film prati novinarku Rahimi u istrazi slučaja serijskog ubojice koji vjeruje da čini Božje djelo ubijanjem lokalnih prostitutki. Njegovo razotkrivanje i privođenje pravdi otežava i činjenica da lokalno stanovništvo u njemu vidi junaka. Broj žrtava raste\, no Rahimi je sve bliže ubojici. Za ulogu u Svetom pauku\, Zar Amir Ebrahim osvojila je nagradu za najbolju glumicu na Festivalu u Cannesu (2022)\, a film je bio nominiran u svim važnim kategorijama Europskih filmskih nagrada.  \nULAZNICE: Za Klub prijatelje 3€ (22\,60 kn) / redovna cijena 3\,50€  (26\,37 kn) \nUlaznice po redovnoj cijeni dostupne su online\, u City Pointu i na blagajni Kuće umjetnosti Arsen. \nČlanovi Kluba prijatelja šibenskih tvrđava popust ostvaruju na fizičkim prodajnim mjestima uz predočenje važeće članske iskaznice. \nOstatak programa Art kina Arsen pogledajte ovdje. \n\nART KINO ARSEN\nCjelogodišnji program art kina Arsen sastoji se od aktualnih distributerskih naslova iz niše nezavisnog igranog i dokumentarnog filma\, recentnog festivalskog programa\, izbora iz kinotečnog programa te matineja filmova za djecu\, uz dodatak edukativnih programa za odrasle i djecu. Koordinatorica programa je Jelena Svirčić. \nProgram se dijeli u 4 pravca: redovni i dokumentarni program\, kinotečni program Češljaonica i matineje za djecu u sklopu programa Bubamarac. \nČEŠLJAONICA – bitno iz povijesti filma \nTemeljni zadatak kinotečnom filmskom programu Češljaonica jest svim zainteresiranim osobama na velikom platnu Kuće umjetnosti Arsen projicirati niz iznimnih i značajnih filmskih ostvarenja odabranih metodom svojevrsnog češljanja kroz povijest svjetske kinematografije. \nOdabiratelj i uvodničar pred projekcije je Ante Storić\, a filmove gledamo jednom mjesečno. \n  \n 
URL:https://kucaarsen.hr/event/sveti-pauk-2/
LOCATION:Kuća umjetnosti Arsen\, Obala hrvatske mornarice 1\, Šibenik\, 22000
CATEGORIES:Film
ATTACH;FMTTYPE=image/jpeg:https://kucaarsen.hr/wp-content/uploads/2023/03/Sveti-pauk.jpg
GEO:43.7324192;15.8902935
X-APPLE-STRUCTURED-LOCATION;VALUE=URI;X-ADDRESS=Kuća umjetnosti Arsen Obala hrvatske mornarice 1 Šibenik 22000;X-APPLE-RADIUS=500;X-TITLE=Obala hrvatske mornarice 1:geo:15.8902935,43.7324192
END:VEVENT
END:VCALENDAR