BEGIN:VCALENDAR
VERSION:2.0
PRODID:-//Kuća umjetnosti Arsen - ECPv5.5.0//NONSGML v1.0//EN
CALSCALE:GREGORIAN
METHOD:PUBLISH
X-WR-CALNAME:Kuća umjetnosti Arsen
X-ORIGINAL-URL:https://kucaarsen.hr
X-WR-CALDESC:Događaji za Kuća umjetnosti Arsen
BEGIN:VTIMEZONE
TZID:Europe/Zagreb
BEGIN:DAYLIGHT
TZOFFSETFROM:+0100
TZOFFSETTO:+0200
TZNAME:CEST
DTSTART:20230326T010000
END:DAYLIGHT
BEGIN:STANDARD
TZOFFSETFROM:+0200
TZOFFSETTO:+0100
TZNAME:CET
DTSTART:20231029T010000
END:STANDARD
END:VTIMEZONE
BEGIN:VEVENT
DTSTART;TZID=Europe/Zagreb:20230222T180000
DTEND;TZID=Europe/Zagreb:20230222T180000
DTSTAMP:20260421T184921
CREATED:20230130T130146Z
LAST-MODIFIED:20230206T090533Z
UID:7812-1677088800-1677088800@kucaarsen.hr
SUMMARY:Sve u isto vrijeme
DESCRIPTION:Sve u isto vrijeme\, Dan Kwan\, Daniel Scheinert\, SAD\, 2022.\, 140′ (12) \nZnanstveno-fantastična komedija Sve u isto vrijeme sa zvijezdom hongkonških akcijskih filmova Michelle Yeoh u glavnoj ulozi (Sutra nikad ne umire\, Tigar i zmaj) jedno je od najvećih iznenađenja ovogodišnjih Oscara s osvojenih čak 11 nominacija. Film o ženi koja je prisiljena suočiti se s različitim verzijama sebe u bezbroj paralelnih svemira prometnuo se tako od simpatične akcijske komedije s ezoteričnim elementima u ozbiljnog favorita Oscara\, a posebno je pozdravljena nominacija za glavnu žensku ulogu čime je Michelle Yeoh zacementirala svoj status najveće azijske zvijezde holivudskog filma. Pored nje\, u filmu je nastupa i dvoje holivudskih veterana: James Hong i Jamie Lee Curtis. \nSve u isto vrijeme drugi je dugometražni film američkog dvojca poznatijeg kao Daniels (Daniel Kwan i Daniel Scheinert)\, a ova super-herojska satira nedavno je na dodjeli Zlatnih globusa osvojila dvije nagrade i to u kategorijama najbolje glavne glumice u komediji – Michelle Yeoh – i najboljeg sporednog glumca – Ke Huy Quan. Zlatni globus već je desetljećima jako dobar “prognozer” kasnijih osvajača Oscara tako da su i Yeoh i Quan automatski postali izrazitim favoritima za osvajanje tog uglednog priznanja koje se dodjeljuje u nedjelju\, 12. ožujka. Pored Zlatnih globusa\, ovaj šareni i duhoviti vizualni spektakl dobio je i 10 nominacija za prestižnu britansku nagradu BAFTA. \nULAZNICE \nDostupne online\, u City Pointu i na blagajni Kuće umjetnosti Arsen. \nČlanovi Kluba prijatelja šibenskih tvrđava uz predočenje važeće članske iskaznice pri kupnji ulaznica za film na fizičkim prodajnim mjestima ostvaruju popust i za njih cijena iznosi 3 eura (22\,6 kn). \n\n 
URL:https://kucaarsen.hr/event/sve-u-isto-vrijeme-2/
LOCATION:Kuća umjetnosti Arsen\, Obala hrvatske mornarice 1\, Šibenik\, 22000
CATEGORIES:Film
ATTACH;FMTTYPE=image/jpeg:https://kucaarsen.hr/wp-content/uploads/2023/01/sve-u-isto-vrijeme.jpg
GEO:43.7324192;15.8902935
X-APPLE-STRUCTURED-LOCATION;VALUE=URI;X-ADDRESS=Kuća umjetnosti Arsen Obala hrvatske mornarice 1 Šibenik 22000;X-APPLE-RADIUS=500;X-TITLE=Obala hrvatske mornarice 1:geo:15.8902935,43.7324192
END:VEVENT
END:VCALENDAR