BEGIN:VCALENDAR
VERSION:2.0
PRODID:-//Kuća umjetnosti Arsen - ECPv5.5.0//NONSGML v1.0//EN
CALSCALE:GREGORIAN
METHOD:PUBLISH
X-WR-CALNAME:Kuća umjetnosti Arsen
X-ORIGINAL-URL:https://kucaarsen.hr
X-WR-CALDESC:Događaji za Kuća umjetnosti Arsen
BEGIN:VTIMEZONE
TZID:Europe/Zagreb
BEGIN:DAYLIGHT
TZOFFSETFROM:+0100
TZOFFSETTO:+0200
TZNAME:CEST
DTSTART:20240331T010000
END:DAYLIGHT
BEGIN:STANDARD
TZOFFSETFROM:+0200
TZOFFSETTO:+0100
TZNAME:CET
DTSTART:20241027T010000
END:STANDARD
END:VTIMEZONE
BEGIN:VEVENT
DTSTART;TZID=Europe/Zagreb:20241023T200000
DTEND;TZID=Europe/Zagreb:20241023T200000
DTSTAMP:20260421T174253
CREATED:20241014T155530Z
LAST-MODIFIED:20241019T062944Z
UID:10598-1729713600-1729713600@kucaarsen.hr
SUMMARY:Supstanca
DESCRIPTION:Supstanca\, r. Coralie Fargeat\, SAD\, Velika Britanija\, Francuska\, 2024.\, 140′ \n \nOvjenčana nagradom za najbolji scenarij na filmskom festivalu u Cannesu\, Supstanca je osebujna\, izrazito aktualna inačica žanra body-horora u feminističkom ključu s Demi Moore i Margaret Qualley u glavnim ulogama. U središtu je radnje Elisabeth Sparkle\, nekadašnju filmsku zvijezdu koja je produkcije namijenjene velikom ekranu zamijenila proizvodnjom videa za tjelovježbu. No iako izgleda izvrsno\, s 50 godina sve joj se više vrata zatvara. Igrom slučaja do nje dolazi neobičan prijedlog: tajanstveni laboratorij nudi joj uzorak Supstance\, čudotvorne tvari koja će joj pomoći da ponovno probudi mlađu\, ljepšu i savršeniju verziju sebe – Sue. No sve dolazi sa cijenom\, a ova će biti prilično visoka. \nSenzacija ovogodišnjih kino repertoara nadahnuta je\, potpuno groteskna\, ali i zabavna satira suvremenog Hollywooda\, kulta vječne mladosti te globalno problematičnog načina na koji je žensko tijelo tretirano u društvu. Sugestivnu\, hrabru (i pomalo autoironičnu) glumačku izvedbu Demi Moore kritika je proglasila najboljom u njezinoj karijeri\, a jezivo visceralna priča\, istančana estetika\, promišljena scenografija i pulsirajuća glazba zaokružile su zaigran režijski potpis Francuskinje Coralie Fargeat u cjelovitu\, nemilosrdnu kritiku zastrašujućih standarda ljepote. \n  \nULAZNICE: Za Klub prijatelja 3\,50€ / redovna cijena 4€  \nUlaznice po redovnoj cijeni dostupne su online i na blagajni Kuće umjetnosti Arsen. \nČlanovi Kluba prijatelja popust ostvaruju na fizičkim prodajnim mjestima uz predočenje važeće članske iskaznice. \n 
URL:https://kucaarsen.hr/event/supstanca/
LOCATION:Kuća umjetnosti Arsen\, Obala hrvatske mornarice 1\, Šibenik\, 22000
CATEGORIES:Film
ATTACH;FMTTYPE=image/jpeg:https://kucaarsen.hr/wp-content/uploads/2024/10/Supstanca.jpg
GEO:43.7324192;15.8902935
X-APPLE-STRUCTURED-LOCATION;VALUE=URI;X-ADDRESS=Kuća umjetnosti Arsen Obala hrvatske mornarice 1 Šibenik 22000;X-APPLE-RADIUS=500;X-TITLE=Obala hrvatske mornarice 1:geo:15.8902935,43.7324192
END:VEVENT
END:VCALENDAR