BEGIN:VCALENDAR
VERSION:2.0
PRODID:-//Kuća umjetnosti Arsen - ECPv5.5.0//NONSGML v1.0//EN
CALSCALE:GREGORIAN
METHOD:PUBLISH
X-WR-CALNAME:Kuća umjetnosti Arsen
X-ORIGINAL-URL:https://kucaarsen.hr
X-WR-CALDESC:Događaji za Kuća umjetnosti Arsen
BEGIN:VTIMEZONE
TZID:Europe/Zagreb
BEGIN:DAYLIGHT
TZOFFSETFROM:+0100
TZOFFSETTO:+0200
TZNAME:CEST
DTSTART:20250330T010000
END:DAYLIGHT
BEGIN:STANDARD
TZOFFSETFROM:+0200
TZOFFSETTO:+0100
TZNAME:CET
DTSTART:20251026T010000
END:STANDARD
END:VTIMEZONE
BEGIN:VEVENT
DTSTART;TZID=Europe/Zagreb:20250326T180000
DTEND;TZID=Europe/Zagreb:20250326T180000
DTSTAMP:20260420T215718
CREATED:20250314T173023Z
LAST-MODIFIED:20250314T173023Z
UID:11525-1743012000-1743012000@kucaarsen.hr
SUMMARY:Stvarna bol
DESCRIPTION:Stvarna bol (A Real Pain)\, r. Jesse Eisenberg; SAD\, Poljska; 2024.; 90′ \n \nProminentan američki glumac Jesse Eisenberg (Lignja i kit\, 2005.; Dobrodošli u zemlju zmobija\, 2009.; Društvena mreža\, 2010.) polako\, ali ustrajno postaje i sve prepoznatljivije redateljsko ime. Nakon svog prvijenca When You Finish Saving the World\, premijerno prikazanog 2022. u programu Tjedan kritike u Cannesu\, prihvatio se šarmantnog\, melankolično-duhovitog ostvarenja o obitelji\, identitetu\, nasljeđu i neurozama suvremene odraslosti. Radnja prati bratiće Davida i Benjija koji odlaze na putovanje kroz Poljsku kako bi odali počast nedavno preminuloj voljenoj baki\, koja je preživjela Holokaust. Nekoć vrlo bliski\, njih dvojica shvaćaju da su se s vremenom potpuno udaljili. Oženjen i s djetetom\, David je ozbiljan\, zaposlen i pomalo uštogljen\, dok je Benji potpuno nepredvidljiv i nespreman odrasti. Avantura poprima neočekivan smjer kada se stare napetosti i karakterne razlike ovog neobičnog dvojca ponovno pojave u sjeni njihove obiteljske povijesti. \nOvjenčan nagradom za scenarij na Sundanceu\, Stvarna bol bridak je i zabavan film ceste o obiteljskim dinamikama. Centralne glumačke izvedbe Eisenberga\, koji potpisuje i scenarij\, te Kierana Culkina\, nagrađenog Oscarom i Zlatnim globusom za ulogu nezrelog\, ali karizmatičnog Benjija\, kritika je jednosložno pohvalila. \n  \nULAZNICE: Za Klub prijatelja 3 € / redovna cijena 4 €  \nUlaznice po redovnoj cijeni dostupne su online i na blagajni Kuće umjetnosti Arsen. \nČlanovi Kluba prijatelja popust ostvaruju na fizičkim prodajnim mjestima uz predočenje važeće članske iskaznice. \n 
URL:https://kucaarsen.hr/event/stvarna-bol/
LOCATION:Kuća umjetnosti Arsen\, Obala hrvatske mornarice 1\, Šibenik\, 22000
CATEGORIES:Film
ATTACH;FMTTYPE=image/png:https://kucaarsen.hr/wp-content/uploads/2025/03/Stvarna-bol.png
GEO:43.7324192;15.8902935
X-APPLE-STRUCTURED-LOCATION;VALUE=URI;X-ADDRESS=Kuća umjetnosti Arsen Obala hrvatske mornarice 1 Šibenik 22000;X-APPLE-RADIUS=500;X-TITLE=Obala hrvatske mornarice 1:geo:15.8902935,43.7324192
END:VEVENT
END:VCALENDAR