BEGIN:VCALENDAR
VERSION:2.0
PRODID:-//Kuća umjetnosti Arsen - ECPv5.5.0//NONSGML v1.0//EN
CALSCALE:GREGORIAN
METHOD:PUBLISH
X-WR-CALNAME:Kuća umjetnosti Arsen
X-ORIGINAL-URL:https://kucaarsen.hr
X-WR-CALDESC:Događaji za Kuća umjetnosti Arsen
BEGIN:VTIMEZONE
TZID:Europe/Zagreb
BEGIN:DAYLIGHT
TZOFFSETFROM:+0100
TZOFFSETTO:+0200
TZNAME:CEST
DTSTART:20230326T010000
END:DAYLIGHT
BEGIN:STANDARD
TZOFFSETFROM:+0200
TZOFFSETTO:+0100
TZNAME:CET
DTSTART:20231029T010000
END:STANDARD
END:VTIMEZONE
BEGIN:VEVENT
DTSTART;TZID=Europe/Zagreb:20230104T210000
DTEND;TZID=Europe/Zagreb:20230104T210000
DTSTAMP:20260423T151130
CREATED:20221129T124656Z
LAST-MODIFIED:20230103T080252Z
UID:7387-1672866000-1672866000@kucaarsen.hr
SUMMARY:Stric
DESCRIPTION:__________________________________________________________________________________ \nULAZNICE: Za Klub prijatelja 2.65€ (20kn)/ redovna cijena 3\,32€ (25kn) \n___________________________________________________________________________________ \nr. David Kapac\, Andrija Mardešić\, Hrvatska\, Srbija\, 2022\, 104′ (15) \nNajneobičniji domaći božićni film odvodi gledatelje u kasne 1980-e\, među tročlanu obitelj koja iščekuje blagdanski povratak voljenog strica iz Njemačke. Stric dijeli poklone\, zatim slijedi tradicionalni božićni objed: purica s mlincima i francuska salata. No radosnu atmosferu prekida zvonjava pametnog telefona. Čini se da ipak nisu 1980-e\, da nije Božić\, a da za blagdanskom trpezom\, osim purice\, nožem može rezati i napetost. U svojem dugometražnom debiju redateljski dvojac David Kapac i Andrija Mardešić prepoznatljiv motiv okupljanja obitelji za blagdane pretvorili su mračnu\, crnohumornu priču i tako zadobili epitet “hrvatskih kraljeva horor filma” (Jutarnji list). Ovaj mračni triler s elementima apsurda i groteske ovjenčan je posebnim priznanjem na festivalu u Karlovym Varyma. Naslovnu ulogu tumači legendarni Predrag Miki Manojlović\, kojemu se u ulogama majke\, oca i sina pridružuju Ivana Roščić\, Goran Bogdan i Roko Sikavica. \nULAZNICE: 20 kn (2\,65€) / 25 kn (3\,32€)  \nDostupne online u City Pointu i na blagajni Kuće umjetnosti Arsen. \nČlanovi Kluba prijatelja šibenskih tvrđava uz predočenje važeće članske iskaznice pri kupnji ulaznica na fizičkim prodajnim mjestima ostvaruju popust i za cijena ulaznice iznosi 3 eura (22\,6 kn).
URL:https://kucaarsen.hr/event/stric-3/
LOCATION:Kuća umjetnosti Arsen\, Obala hrvatske mornarice 1\, Šibenik\, 22000
CATEGORIES:Film
ATTACH;FMTTYPE=image/jpeg:https://kucaarsen.hr/wp-content/uploads/2022/11/stric.jpg
GEO:43.7324192;15.8902935
X-APPLE-STRUCTURED-LOCATION;VALUE=URI;X-ADDRESS=Kuća umjetnosti Arsen Obala hrvatske mornarice 1 Šibenik 22000;X-APPLE-RADIUS=500;X-TITLE=Obala hrvatske mornarice 1:geo:15.8902935,43.7324192
END:VEVENT
END:VCALENDAR