BEGIN:VCALENDAR
VERSION:2.0
PRODID:-//Kuća umjetnosti Arsen - ECPv5.5.0//NONSGML v1.0//EN
CALSCALE:GREGORIAN
METHOD:PUBLISH
X-WR-CALNAME:Kuća umjetnosti Arsen
X-ORIGINAL-URL:https://kucaarsen.hr
X-WR-CALDESC:Događaji za Kuća umjetnosti Arsen
BEGIN:VTIMEZONE
TZID:Europe/Zagreb
BEGIN:DAYLIGHT
TZOFFSETFROM:+0100
TZOFFSETTO:+0200
TZNAME:CEST
DTSTART:20260329T010000
END:DAYLIGHT
BEGIN:STANDARD
TZOFFSETFROM:+0200
TZOFFSETTO:+0100
TZNAME:CET
DTSTART:20261025T010000
END:STANDARD
END:VTIMEZONE
BEGIN:VEVENT
DTSTART;TZID=Europe/Zagreb:20260218T180000
DTEND;TZID=Europe/Zagreb:20260218T180000
DTSTAMP:20260419T164357
CREATED:20260202T044851Z
LAST-MODIFIED:20260219T074721Z
UID:12572-1771437600-1771437600@kucaarsen.hr
SUMMARY:Stranac
DESCRIPTION:Stranac (L’Étranger)\, r. François Ozon; Francuska; 2025.; 123′ \n \nNajnovije ostvarenje francuskog majstora senzualnosti Françoisa Ozona vizualno je impresivna adaptacija Camusova Stranca. Alžir\, 1938. godine. Mladi činovnik Meursault dolazi na majčin sprovod\, tijekom kojeg ne prolije ni jednu suzu. Ubrzo nakon sprovoda vraća se svojoj rutini i ulazi u ljubavni odnos s kolegicom Marie. Meursaultovu tihu svakodnevicu izbacit će iz ravnoteže njegov susjed Raymond\, koji Meursaulta uvlači u sumnjive poslove. Jednog sudbonosnog dana na plaži\, tragični događaj potpuno će promijeniti Meursaultov život. Ovaj film o apsurdu ljudske egzistencije premijerno je prikazan u Veneciji. \n  \nULAZNICE: Za Klub prijatelja 4\,20 € / redovna cijena 6 €  \nUlaznice po redovnoj cijeni dostupne su online i na blagajni Kuće umjetnosti Arsen. \nČlanovi Kluba prijatelja popust ostvaruju na fizičkim prodajnim mjestima uz predočenje važeće članske iskaznice. \n 
URL:https://kucaarsen.hr/event/stranac/
LOCATION:Kuća umjetnosti Arsen\, Obala hrvatske mornarice 1\, Šibenik\, 22000
CATEGORIES:Film
ATTACH;FMTTYPE=image/jpeg:https://kucaarsen.hr/wp-content/uploads/2026/02/stranac.jpg
GEO:43.7324192;15.8902935
X-APPLE-STRUCTURED-LOCATION;VALUE=URI;X-ADDRESS=Kuća umjetnosti Arsen Obala hrvatske mornarice 1 Šibenik 22000;X-APPLE-RADIUS=500;X-TITLE=Obala hrvatske mornarice 1:geo:15.8902935,43.7324192
END:VEVENT
END:VCALENDAR