BEGIN:VCALENDAR
VERSION:2.0
PRODID:-//Kuća umjetnosti Arsen - ECPv5.5.0//NONSGML v1.0//EN
CALSCALE:GREGORIAN
METHOD:PUBLISH
X-WR-CALNAME:Kuća umjetnosti Arsen
X-ORIGINAL-URL:https://kucaarsen.hr
X-WR-CALDESC:Događaji za Kuća umjetnosti Arsen
BEGIN:VTIMEZONE
TZID:Europe/Zagreb
BEGIN:DAYLIGHT
TZOFFSETFROM:+0100
TZOFFSETTO:+0200
TZNAME:CEST
DTSTART:20240331T010000
END:DAYLIGHT
BEGIN:STANDARD
TZOFFSETFROM:+0200
TZOFFSETTO:+0100
TZNAME:CET
DTSTART:20241027T010000
END:STANDARD
END:VTIMEZONE
BEGIN:VEVENT
DTSTART;TZID=Europe/Zagreb:20240327T180000
DTEND;TZID=Europe/Zagreb:20240327T180000
DTSTAMP:20260422T054147
CREATED:20240229T105838Z
LAST-MODIFIED:20240229T105838Z
UID:9860-1711562400-1711562400@kucaarsen.hr
SUMMARY:Stari hrast
DESCRIPTION:Stari hrast\, r. Ken Loach\, Velika Britanija\, Francuska\, Belgija\, 2023.\, 113′ (12) \n  \nVjerojatno posljednje ostvarenje britanskog majstora socijalnog realizma u filmu i ustrajnog portretista radničke klase\, 87-godišnjeg Kena Loacha\, filmski je pledoaje za solidarnost i zajedništvo kao odgovore na krize suvremenog svijeta. Stari hrast iz naslova posebno je mjesto – posljednja je to preostala pivnica u turobnom selu na sjeveroistoku Engleske\, nekoć prosperitetnom rudarskom mjestu koje propada posljednjih 30-ak godina. Napori vlasnika Starog hrasta\, TJ-a Ballantynea\, da svoj trošni pub sačuva od konačne propasti postanu još izazovniji kada na ovo područje počnu stizati sirijske izbjeglice\, a lokalna zajednica dočekuje ih uz tinjajuće nepovjerenje i rasplamsale predrasude. No\, neočekivano prijateljstvo koje se razvija između TJ-a i mlade Sirijke Yare možda će otvoriti mogućnost da podijeljeno selo premosti svoje različitosti. \nBeskompromisna\, duboko dirljiva drama o gubitku\, strahu i pronalaženju nade\, prema riječima samog redatelja\, posljednji je\, zaključni film u šest desetljeća dugoj karijeri dvostrukog dobitnika kanske Zlatne palme\, i finalna potvrda humanističkih ideala jednog od najkonzistentnijih filmskih autora svih vremena. \n  \n\nULAZNICE\nZa Klub prijatelja 3\,50€/ redovna cijena 4€  \nUlaznice po redovnoj cijeni dostupne su online i na blagajni Kuće umjetnosti Arsen. \nČlanovi  Kluba prijatelja popust ostvaruju na fizičkim prodajnim mjestima uz predočenje važeće članske iskaznice.
URL:https://kucaarsen.hr/event/stari-hrast/
LOCATION:Kuća umjetnosti Arsen\, Obala hrvatske mornarice 1\, Šibenik\, 22000
CATEGORIES:Film
ATTACH;FMTTYPE=image/jpeg:https://kucaarsen.hr/wp-content/uploads/2024/02/STARI-HRAST-scaled.jpg
GEO:43.7324192;15.8902935
X-APPLE-STRUCTURED-LOCATION;VALUE=URI;X-ADDRESS=Kuća umjetnosti Arsen Obala hrvatske mornarice 1 Šibenik 22000;X-APPLE-RADIUS=500;X-TITLE=Obala hrvatske mornarice 1:geo:15.8902935,43.7324192
END:VEVENT
END:VCALENDAR