BEGIN:VCALENDAR
VERSION:2.0
PRODID:-//Kuća umjetnosti Arsen - ECPv5.5.0//NONSGML v1.0//EN
CALSCALE:GREGORIAN
METHOD:PUBLISH
X-WR-CALNAME:Kuća umjetnosti Arsen
X-ORIGINAL-URL:https://kucaarsen.hr
X-WR-CALDESC:Događaji za Kuća umjetnosti Arsen
BEGIN:VTIMEZONE
TZID:Europe/Zagreb
BEGIN:DAYLIGHT
TZOFFSETFROM:+0100
TZOFFSETTO:+0200
TZNAME:CEST
DTSTART:20250330T010000
END:DAYLIGHT
BEGIN:STANDARD
TZOFFSETFROM:+0200
TZOFFSETTO:+0100
TZNAME:CET
DTSTART:20251026T010000
END:STANDARD
END:VTIMEZONE
BEGIN:VEVENT
DTSTART;TZID=Europe/Zagreb:20251119T200000
DTEND;TZID=Europe/Zagreb:20251119T200000
DTSTAMP:20260420T054012
CREATED:20251004T193413Z
LAST-MODIFIED:20251006T122744Z
UID:11914-1763582400-1763582400@kucaarsen.hr
SUMMARY:Smashing Machine: Život u ringu
DESCRIPTION:Smashing Machine: Život u ringu\, r. Benny Safdie; SAD; 2025.; 123′ \n \nBiografski film o životu legendarnog MMA prvaka Marka Kerra prati njegov meteorski uspon u brutalnom svijetu slobodne borbe i paralelnu borbu s ovisnošću\, pritiscima slave i narušenim privatnim odnosima. Dva uzastupna UFC turnirska naslova isprepliću se s kontinuiranom bolnom borbom s ovisnošću koja prijeti uništiti sve što je izgradio. U filmu gostuju i borilačke ikone poput Basa Ruttena i Oleksandra Usyka\, a priča kulminira u nezaboravnim okršajima protiv najvećih imena PRIDE-a\, koje su uključivale i našeg legendarnog Branka Cikatića. \nU naslovnoj ulozi nastupa Dwayne Johnson\, poznat i kao “The Rock”\, a u svojoj hvaljenoj glumačkoj izvedbi Kerru je pristupio slojevito i kompleksno\, otkrivajući i njegove ranjive strane\, kao i mračnu cijenu slave. Emily Blunt impresionira pak kao Dawn Staples – hrabra životna suputnica koja pokušava održati Kerra na nogama dok se bori sa slavom\, ozljedama i osobnim demonima. Posebna zvijezda filma je hrvatski Japanac Satoshi Ishii koji tumači legendu PRIDE–a Ensona Inouea – čovjeka kojeg je Kerr svladao u kultnom Grand Prixu 2000. godine. Režiju potpisuje svestrani filmaš Benny Safdie kojeg kao glumca pamtimo iz filmova Licorice Pizza (2021.) P. T. Andersona i Nolanova Oppenheimera (2023.) \n  \nULAZNICE: Za Klub prijatelja 4\,20 € / redovna cijena 6 €  \nUlaznice po redovnoj cijeni dostupne su online i na blagajni Kuće umjetnosti Arsen. \nČlanovi Kluba prijatelja popust ostvaruju na fizičkim prodajnim mjestima uz predočenje važeće članske iskaznice. \n 
URL:https://kucaarsen.hr/event/smashing-machine-zivot-u-ringu/
LOCATION:Kuća umjetnosti Arsen\, Obala hrvatske mornarice 1\, Šibenik\, 22000
CATEGORIES:Film
ATTACH;FMTTYPE=image/jpeg:https://kucaarsen.hr/wp-content/uploads/2025/10/smashing-machine.jpg
GEO:43.7324192;15.8902935
X-APPLE-STRUCTURED-LOCATION;VALUE=URI;X-ADDRESS=Kuća umjetnosti Arsen Obala hrvatske mornarice 1 Šibenik 22000;X-APPLE-RADIUS=500;X-TITLE=Obala hrvatske mornarice 1:geo:15.8902935,43.7324192
END:VEVENT
END:VCALENDAR