BEGIN:VCALENDAR
VERSION:2.0
PRODID:-//Kuća umjetnosti Arsen - ECPv5.5.0//NONSGML v1.0//EN
CALSCALE:GREGORIAN
METHOD:PUBLISH
X-WR-CALNAME:Kuća umjetnosti Arsen
X-ORIGINAL-URL:https://kucaarsen.hr
X-WR-CALDESC:Događaji za Kuća umjetnosti Arsen
BEGIN:VTIMEZONE
TZID:Europe/Zagreb
BEGIN:DAYLIGHT
TZOFFSETFROM:+0100
TZOFFSETTO:+0200
TZNAME:CEST
DTSTART:20240331T010000
END:DAYLIGHT
BEGIN:STANDARD
TZOFFSETFROM:+0200
TZOFFSETTO:+0100
TZNAME:CET
DTSTART:20241027T010000
END:STANDARD
END:VTIMEZONE
BEGIN:VEVENT
DTSTART;TZID=Europe/Zagreb:20240327T203000
DTEND;TZID=Europe/Zagreb:20240327T203000
DTSTAMP:20260422T054957
CREATED:20240229T090358Z
LAST-MODIFIED:20240229T090358Z
UID:9857-1711571400-1711571400@kucaarsen.hr
SUMMARY:Slučaj Goldman
DESCRIPTION:Mjesec frankofonije: Slučaj Goldman\, r. Cédric Kahn\, Francuska\, 2023.\, 115′ (15) \n  \nFilm koji je otvorio program 15 dana autora koji se održava paralelno s Filmskim festivalom u Cannesu intrigantna je ekranizacija stvarnog dramatičnog sudskog procesa koji je sredinom 1970-ih podijelio Francusku. Optuženik je Pierre Goldman\, aktivist radikalne ljevice i kontroverzna figura\, a prijeti mu doživotni zatvor za četiri oružane pljačke\, od kojih je jedna rezultirala smrću dvije ljekarnice. Međutim\, Goldman – iako priznaje krivnju za pljačke\, inzistira na vlastitoj nedužnosti po pitanju ubojstava. Brani ga mladi odvjetnik\, Georges Kiejman\, ali njihov će odnos ubrzo postati zategnut. Provokativni Goldman riskira smrtnu kaznu\, čineći ishod suđenja neizvjesnim. \nSuđenje stoljeća u Francuskoj\, u kojem se zrcale političke\, ideološke i antisemitističke tenzije\, podijelilo je zemlju i produbilo jaz između konzervativne desnice i intelektualne ljevice. Cédric Kahn\, koji uz režiju zajedno s Nathalie Herberg potpisuje i scenarij temeljen na ondašnjim novinskim člancima i razgovorima s Goldmanovim odvjetnicima\, ovim se filmom pridružuje recentnom porastu interesa francuske kinematografije za punokrvne\, napete sudske drame\, uz na najvažnijim festivalima nagrađene primjere poput Anatomije pada Justine Triet i Saint Omer Alice Diop. Za naslovnu ulogu Arieh Worthalter osvojio je nagradu Lumiere za najboljeg glumca. \nFilm se prikazuje u sklopu programa Mjesec frankofonije u organizaciji Francuskog instituta i suradnji s Kino mrežom. \n  \n\nULAZNICE\nZa Klub prijatelja 3\,50€/ redovna cijena 4€  \nUlaznice po redovnoj cijeni dostupne su online i na blagajni Kuće umjetnosti Arsen. \nČlanovi  Kluba prijatelja popust ostvaruju na fizičkim prodajnim mjestima uz predočenje važeće članske iskaznice.
URL:https://kucaarsen.hr/event/slucaj-goldman/
LOCATION:Kuća umjetnosti Arsen\, Obala hrvatske mornarice 1\, Šibenik\, 22000
CATEGORIES:Film
ATTACH;FMTTYPE=image/jpeg:https://kucaarsen.hr/wp-content/uploads/2024/02/SLUCAJ-GOLDMAN-scaled.jpg
GEO:43.7324192;15.8902935
X-APPLE-STRUCTURED-LOCATION;VALUE=URI;X-ADDRESS=Kuća umjetnosti Arsen Obala hrvatske mornarice 1 Šibenik 22000;X-APPLE-RADIUS=500;X-TITLE=Obala hrvatske mornarice 1:geo:15.8902935,43.7324192
END:VEVENT
END:VCALENDAR