BEGIN:VCALENDAR
VERSION:2.0
PRODID:-//Kuća umjetnosti Arsen - ECPv5.5.0//NONSGML v1.0//EN
CALSCALE:GREGORIAN
METHOD:PUBLISH
X-WR-CALNAME:Kuća umjetnosti Arsen
X-ORIGINAL-URL:https://kucaarsen.hr
X-WR-CALDESC:Događaji za Kuća umjetnosti Arsen
BEGIN:VTIMEZONE
TZID:Europe/Zagreb
BEGIN:DAYLIGHT
TZOFFSETFROM:+0100
TZOFFSETTO:+0200
TZNAME:CEST
DTSTART:20210328T010000
END:DAYLIGHT
BEGIN:STANDARD
TZOFFSETFROM:+0200
TZOFFSETTO:+0100
TZNAME:CET
DTSTART:20211031T010000
END:STANDARD
END:VTIMEZONE
BEGIN:VEVENT
DTSTART;TZID=Europe/Zagreb:20210723T220000
DTEND;TZID=Europe/Zagreb:20210723T220000
DTSTAMP:20260424T123945
CREATED:20210702T130255Z
LAST-MODIFIED:20220207T150509Z
UID:4310-1627077600-1627077600@kucaarsen.hr
SUMMARY:Sibenik Dance Festival: Body Shots
DESCRIPTION:Koreografija: Rafaele Giovanola \nU koprodukciji: Cocoon Dance Company & Zagrebački plesni centar \nKo-kreacija i izvedba: Cristina Commisso\, Martina De Dominicis\, Alvaro Esteban\, Eleonora Vrdoljak\, Marin Lemić \n  \nRiječ autora: \nIzvlače nam podlogu ispod nogu\, uzrokuju nelagodu\, otuđenje\, ako ne i gađenje. Antropomorfna bića\, artefakti\, hermafroditska stvorenja začahurena\, bez osobnosti. Nalikuju istovremeno na ljudski organizam ali i stroj – naoko intiman\, ljudski\,  istodobno beživotni predmet koji se čini radikalno čudnim. Nesvjesno uspoređujući\, naše se tijelo doima stranim i neobično konstruiranim. \nBody Shots istražuje usku granicu percepcije između ovih umjetnih bića i nas te dizajnira gotovo čovjeku nalik zamjensko tijelo. Ono što ostaje je vizija ljudskog postojanja i pitanje ‘što zapravo naše ljudsko biće jest’.  Ova izvedba nudi posve novo\, distopijsko viđenje plesa i ljudskog tijela\,  pomičući plesni prostor iz prostora pripovijedanja u prostor daljine i promišljanja. \n  \nO KOMPANIJI \nIzvedbeni kolektiv CocoonDance osnovali su koreografkinja Rafaële Giovanola i dramaturg Rainald Endraß 2000.  Rafaële Giovanola je bila solistkinja u Torinu prije nego što se pridružila Frankfurt Ballett na inicijativu Williama Forsythe-a.  Nakon toga surađivala je s Choreographisches Theatrom Pavela Mikuláštika uBonnu. Od 2000. godine CocoonDance producira i predstavlja u neovisnom Theatre im Ballsaal u Bonnu. U sezoni 2004./05. ova kompanija bila je odgovorna za selekciju plesnog programa\, organizaciju i financiranje kazališta. \nVažan stup kompanije nalazi se u švicarskom kantonu Valais\, gdje je CocoonDance kroz koprodukcije od 2005. godine do danas\, priredio već osam premijera. Godine 2020. CocoonDance nagrađena je počasnim  naslovom Associate Artist of the Théâtre du Crochetan u Montheyu. Od svog osnutka\, tvrtka je proizvela četrdesetak cjelovečernjih produkcija koje su obišle ​​pet kontinenata. \nCocoonDance se nametnuo kao plesno-umjetnička institucija s razgranatom mrežom ne samo u umjetničkom svijetu\, već i na polju kulturnog obrazovanja. Karakterizira ga učinkovita i uspješna interakcija različitih komponenata\, a to su: profesionalna tvrtka koja posluje s posjetiteljima slobodnih umjetnika\, nacionalnim i međunarodnim mrežama\, koproducentima\, međunarodno razgranatim suradnjama širom svijeta; izvedbeni prostor koji se etablirao kao centar za selekciju suvremenih plesnih produkcija s dva renomirana međunarodna festivala i rezidencijalnim programom. Cocoon Dance sponzori su dva mlada plesna ansambla iz Njemačke i Češke\, i uživaju velik ugled u  javnosti i priznanje struke. \nPokretačka snaga koji stoji iza ovih 20 godina umjetničkog rada su improvizacija\, snažna dramaturgija i kontinuirani timski rad. Svojom bogatom produkcijom CocoonDance ne samo da ruši prostorne barijere konvencionalnog scenskog izražaja\, već se na sofisticiran način poigrava s našom percepcijom tijela. \n  \nULAZNICE \nUlaznice su dostupne u proaji od 2. srpnja.
URL:https://kucaarsen.hr/event/sibenik-dance-festival-body-shots/
LOCATION:Kuća umjetnosti Arsen\, Obala hrvatske mornarice 1\, Šibenik\, 22000
CATEGORIES:Ples
ATTACH;FMTTYPE=image/jpeg:https://kucaarsen.hr/wp-content/uploads/2021/07/Body-Shots-2-scaled.jpeg
GEO:43.7324192;15.8902935
X-APPLE-STRUCTURED-LOCATION;VALUE=URI;X-ADDRESS=Kuća umjetnosti Arsen Obala hrvatske mornarice 1 Šibenik 22000;X-APPLE-RADIUS=500;X-TITLE=Obala hrvatske mornarice 1:geo:15.8902935,43.7324192
END:VEVENT
END:VCALENDAR