BEGIN:VCALENDAR
VERSION:2.0
PRODID:-//Kuća umjetnosti Arsen - ECPv5.5.0//NONSGML v1.0//EN
CALSCALE:GREGORIAN
METHOD:PUBLISH
X-WR-CALNAME:Kuća umjetnosti Arsen
X-ORIGINAL-URL:https://kucaarsen.hr
X-WR-CALDESC:Događaji za Kuća umjetnosti Arsen
BEGIN:VTIMEZONE
TZID:Europe/Zagreb
BEGIN:DAYLIGHT
TZOFFSETFROM:+0100
TZOFFSETTO:+0200
TZNAME:CEST
DTSTART:20240331T010000
END:DAYLIGHT
BEGIN:STANDARD
TZOFFSETFROM:+0200
TZOFFSETTO:+0100
TZNAME:CET
DTSTART:20241027T010000
END:STANDARD
END:VTIMEZONE
BEGIN:VEVENT
DTSTART;TZID=Europe/Zagreb:20241026T203000
DTEND;TZID=Europe/Zagreb:20241026T203000
DTSTAMP:20260421T174915
CREATED:20241014T155613Z
LAST-MODIFIED:20241025T091027Z
UID:10603-1729974600-1729974600@kucaarsen.hr
SUMMARY:Šalša
DESCRIPTION:Šalša\, r. Dražen Žarković\, Hrvatska\, 2024.\, 100′ \n \nZombi komedija Šalša novo je ostvarenje u režiji Dražena Žarkovića\, čiji redateljski potpis stoji na serijama poput Stipe u gostima i Bitange i princeze te dugometražnim dječjim filmovima Moj dida je pao s Marsa i Zagonetni dječak. \n“Željeli smo napraviti komunikativan film za publiku. A kako u hrvatskoj kinematografiji kronično nedostaje žanrovskog filma kojem sam autorski uvijek naginjao\, a horor je jedan od žanrova koji je uvijek rado gledan\, odlučili smo ga upariti s komedijom koja dokazano privlači publiku”\, pojasnio je redatelj svoju motivaciju za stvaranje originalne\, groteskne priče smještene u mikro sredinu jadranskog otočića. \nRadnja prati vječitog studenta Vatroslava koji\, nakon što ostane bez posla\, prihvati ponudu da iz Zagreba dođe na izolirani otok Mala Glava pomoći u berbi rajčica. Ondje upoznaje stomatologinju Irenu i simpatičan “domaći svit“”\, no ubrzo postane svjestan da se iza “fešte od poma” skriva mračna tajna zbog koje je najbolje – bježati. U glavnim su ulogama Momčilo Otašević i Ivana Gulin\, a glumačku postavu upotpunili su Snježana Sinovčić Šiškov\, Milica Janevski\, Ljubiša Savanović\, Slavko Sobin\, Damir Markovina\, Ecija Ojdanić\, Donat Zeko i drugi. Šalša je ljetos u Puli majstoru specijalnih efekata Krsti Jaramu priskrbila Zlatnu Arenu za “realistično i dojmljivo stvorenu atmosferu začudnosti i dramatičnosti”. \nFilm će šibenskoj publici u razgovoru nakon projekcije predstaviti glavna glumica\, Ivana Gulin.  \n  \nULAZNICE: Za Klub prijatelja 3\,50€ / redovna cijena 4€  \nUlaznice po redovnoj cijeni dostupne su online i na blagajni Kuće umjetnosti Arsen. \nČlanovi Kluba prijatelja popust ostvaruju na fizičkim prodajnim mjestima uz predočenje važeće članske iskaznice. \n 
URL:https://kucaarsen.hr/event/salsa-2/
LOCATION:Kuća umjetnosti Arsen\, Obala hrvatske mornarice 1\, Šibenik\, 22000
CATEGORIES:Film
ATTACH;FMTTYPE=image/jpeg:https://kucaarsen.hr/wp-content/uploads/2024/10/Salsa.jpg
GEO:43.7324192;15.8902935
X-APPLE-STRUCTURED-LOCATION;VALUE=URI;X-ADDRESS=Kuća umjetnosti Arsen Obala hrvatske mornarice 1 Šibenik 22000;X-APPLE-RADIUS=500;X-TITLE=Obala hrvatske mornarice 1:geo:15.8902935,43.7324192
END:VEVENT
END:VCALENDAR