BEGIN:VCALENDAR
VERSION:2.0
PRODID:-//Kuća umjetnosti Arsen - ECPv5.5.0//NONSGML v1.0//EN
CALSCALE:GREGORIAN
METHOD:PUBLISH
X-WR-CALNAME:Kuća umjetnosti Arsen
X-ORIGINAL-URL:https://kucaarsen.hr
X-WR-CALDESC:Događaji za Kuća umjetnosti Arsen
BEGIN:VTIMEZONE
TZID:Europe/Zagreb
BEGIN:DAYLIGHT
TZOFFSETFROM:+0100
TZOFFSETTO:+0200
TZNAME:CEST
DTSTART:20230326T010000
END:DAYLIGHT
BEGIN:STANDARD
TZOFFSETFROM:+0200
TZOFFSETTO:+0100
TZNAME:CET
DTSTART:20231029T010000
END:STANDARD
END:VTIMEZONE
BEGIN:VEVENT
DTSTART;TZID=Europe/Zagreb:20231009T163000
DTEND;TZID=Europe/Zagreb:20231009T190000
DTSTAMP:20260424T140754
CREATED:20230921T105326Z
LAST-MODIFIED:20230921T105326Z
UID:8842-1696869000-1696878000@kucaarsen.hr
SUMMARY:Ritam i odluke u plesu
DESCRIPTION:Ritam i odluke u plesu je trosatna radionica plesa i pokreta za odrasle\, bez obzira na prethodno iskustvo. Vodi je plesna umjetnica i izvođačica Zrinka Užbinec koja će u Kući umjetnosti Arsen također izvesti i zanimljivu plesnu predstavu. \nRITAM I PLES\nKroz jednodnevnu radionicu u trajanju od 3 sata polaznici će se tražiti ritam vlastitog tijela kroz pokret i ples. Prema riječima voditeljice: \nKrenut ćemo. Ili ne. Slušat ćemo pažljivo. Čut ćemo nešto što mislimo da prepoznajemo od ranije. Trudit ćemo se vidjeti\, ali će nam oči biti preumorne da bi vidjele sa sigurnošću. Trepnut ćemo a da nismo primijetile. Duboko ćemo udahnuti kad shvatimo da možemo upravljati vremenom: ići unatrag\, stati ako je potrebno\, ponoviti ili usporiti. Kad shvatimo da plesanjem odlučujemo\, da stvaramo veze i da ono što povezuje nas\, mjesto\, vrijeme i njegovo trajanje\, jest ritam; ritam koji čini ples\, koji čini strah\, koji čini zadovoljstvo. Tad ćemo treptat uzastopno. \n  \nLINK ZA PRIJAVU:  \nProgram se odvija u suradnji Obrt studia i Kuće umjetnosti Arsen.
URL:https://kucaarsen.hr/event/ritam-i-odluke-u-plesu/
LOCATION:Kuća umjetnosti Arsen\, Obala hrvatske mornarice 1\, Šibenik\, 22000
CATEGORIES:Ples,Radionica
ATTACH;FMTTYPE=image/jpeg:https://kucaarsen.hr/wp-content/uploads/2023/09/Dizajn-bez-naslova-1.jpg
GEO:43.7324192;15.8902935
X-APPLE-STRUCTURED-LOCATION;VALUE=URI;X-ADDRESS=Kuća umjetnosti Arsen Obala hrvatske mornarice 1 Šibenik 22000;X-APPLE-RADIUS=500;X-TITLE=Obala hrvatske mornarice 1:geo:15.8902935,43.7324192
END:VEVENT
END:VCALENDAR