BEGIN:VCALENDAR
VERSION:2.0
PRODID:-//Kuća umjetnosti Arsen - ECPv5.5.0//NONSGML v1.0//EN
CALSCALE:GREGORIAN
METHOD:PUBLISH
X-WR-CALNAME:Kuća umjetnosti Arsen
X-ORIGINAL-URL:https://kucaarsen.hr
X-WR-CALDESC:Događaji za Kuća umjetnosti Arsen
BEGIN:VTIMEZONE
TZID:Europe/Zagreb
BEGIN:DAYLIGHT
TZOFFSETFROM:+0100
TZOFFSETTO:+0200
TZNAME:CEST
DTSTART:20210328T010000
END:DAYLIGHT
BEGIN:STANDARD
TZOFFSETFROM:+0200
TZOFFSETTO:+0100
TZNAME:CET
DTSTART:20211031T010000
END:STANDARD
END:VTIMEZONE
BEGIN:VEVENT
DTSTART;TZID=Europe/Zagreb:20211107T110000
DTEND;TZID=Europe/Zagreb:20211107T110000
DTSTAMP:20260424T123644
CREATED:20211027T084114Z
LAST-MODIFIED:20211102T090302Z
UID:4795-1636282800-1636282800@kucaarsen.hr
SUMMARY:Putovanje jednog princa
DESCRIPTION:Putovanje jednog princa / Le voyage du prince \nJean-François Laguionie\, Xavier Picard\, Francuska\, Luksemburg\, 2019.\, 77′ \nuzrast 6+\, animirani\, sinkronizirano \n  \nSINOPSIS \nStari majmunski princ Laurent budi se na nepoznatoj obali na koju se nasukao nakon nesreće. Pronalazi ga mladi Tom čiji mu roditelji pružaju utočište. Oni su znanstvenici u egzilu. Naime\, njihova ih je zajednica protjerala jer su se usudili vjerovati da postoje i druge majmunske civilizacije. Uz Tomovu pomoć\, Princ s velikim zanimanjem upoznaje taj neobičan svijet i njegovo rigidno društvo. \n“Putovanje jednog princa” podsjeća na dnevnik s putovanja o svijetu koji je vrlo nalik našem\, ali vrlo iznenađujuć za starog princa.
URL:https://kucaarsen.hr/event/putovanje-jednog-princa/
LOCATION:Kuća umjetnosti Arsen\, Obala hrvatske mornarice 1\, Šibenik\, 22000
CATEGORIES:Djeca i mladi,Film
ATTACH;FMTTYPE=image/jpeg:https://kucaarsen.hr/wp-content/uploads/2021/10/putovanje-jednog-princa-169.jpg
GEO:43.7324192;15.8902935
X-APPLE-STRUCTURED-LOCATION;VALUE=URI;X-ADDRESS=Kuća umjetnosti Arsen Obala hrvatske mornarice 1 Šibenik 22000;X-APPLE-RADIUS=500;X-TITLE=Obala hrvatske mornarice 1:geo:15.8902935,43.7324192
END:VEVENT
END:VCALENDAR