BEGIN:VCALENDAR
VERSION:2.0
PRODID:-//Kuća umjetnosti Arsen - ECPv5.5.0//NONSGML v1.0//EN
CALSCALE:GREGORIAN
METHOD:PUBLISH
X-WR-CALNAME:Kuća umjetnosti Arsen
X-ORIGINAL-URL:https://kucaarsen.hr
X-WR-CALDESC:Događaji za Kuća umjetnosti Arsen
BEGIN:VTIMEZONE
TZID:Europe/Zagreb
BEGIN:DAYLIGHT
TZOFFSETFROM:+0100
TZOFFSETTO:+0200
TZNAME:CEST
DTSTART:20240331T010000
END:DAYLIGHT
BEGIN:STANDARD
TZOFFSETFROM:+0200
TZOFFSETTO:+0100
TZNAME:CET
DTSTART:20241027T010000
END:STANDARD
END:VTIMEZONE
BEGIN:VEVENT
DTSTART;TZID=Europe/Zagreb:20240313T180000
DTEND;TZID=Europe/Zagreb:20240313T180000
DTSTAMP:20260423T230110
CREATED:20240228T090408Z
LAST-MODIFIED:20240228T090408Z
UID:9830-1710352800-1710352800@kucaarsen.hr
SUMMARY:Prošli životi
DESCRIPTION:Prošli životi\, r. Celine Song\, SAD\, Južna Koreja\, 2023.\, 106′ (12) \n\n\n\nHvaljeni filmski prvijenac etablirane južnokorejsko-kanadske kazališne redateljice i dramaturginje Celine Song melankolična je ljubavna priča koja prati Noru i Haea Sunga od njihovog osnovnoškolskog prijateljstva do sporadičnih\, neočekivanih kontakata i sudbonosnih susreta desetljećima kasnije. \nDvanaestogodišnji dvojac prisiljen je rastati se kada Nora s roditeljima preseli iz Koreje u Kanadu. Dvadeset godina kasnije\, Nora je udana i razvija uspješnu spisateljsku karijeru u New Yorku. Kada saznaje da Hae Sung dolazi u New York na tjedan dana\, njih dvoje se nalaze. Na tragu kultnih filmova kao što su Linklaterov Prije svitanja i Raspoloženi za ljubav Wong Kar-Waija\, ovo lirično i toplo ostvarenje filmski je zapis o ljubavima\, sudbini i odlukama koje kroje živote. \nOd svoje premijere na Sundanceu Prošli životi ne prestaju oduševljavati publiku i kritiku\, a sezonu filmskih nagrada zaokružuju s dvije nominacije za Oscara: osim što je autorici Celine Song pripala nominacija za najbolji originalni scenarij\, film je nominiran i u kategoriji najboljeg filma. \n\n\n\n\n\nULAZNICE\nZa Klub prijatelja 3\,50€/ redovna cijena 4€  \nUlaznice po redovnoj cijeni dostupne su online i na blagajni Kuće umjetnosti Arsen. \nČlanovi  Kluba prijatelja popust ostvaruju na fizičkim prodajnim mjestima uz predočenje važeće članske iskaznice.
URL:https://kucaarsen.hr/event/prosli-zivoti-3/
LOCATION:Kuća umjetnosti Arsen\, Obala hrvatske mornarice 1\, Šibenik\, 22000
CATEGORIES:Film
ATTACH;FMTTYPE=image/jpeg:https://kucaarsen.hr/wp-content/uploads/2024/01/PROSLI-ZIVOTI-scaled.jpg
GEO:43.7324192;15.8902935
X-APPLE-STRUCTURED-LOCATION;VALUE=URI;X-ADDRESS=Kuća umjetnosti Arsen Obala hrvatske mornarice 1 Šibenik 22000;X-APPLE-RADIUS=500;X-TITLE=Obala hrvatske mornarice 1:geo:15.8902935,43.7324192
END:VEVENT
END:VCALENDAR