BEGIN:VCALENDAR
VERSION:2.0
PRODID:-//Kuća umjetnosti Arsen - ECPv5.5.0//NONSGML v1.0//EN
CALSCALE:GREGORIAN
METHOD:PUBLISH
X-WR-CALNAME:Kuća umjetnosti Arsen
X-ORIGINAL-URL:https://kucaarsen.hr
X-WR-CALDESC:Događaji za Kuća umjetnosti Arsen
BEGIN:VTIMEZONE
TZID:Europe/Zagreb
BEGIN:DAYLIGHT
TZOFFSETFROM:+0100
TZOFFSETTO:+0200
TZNAME:CEST
DTSTART:20220327T010000
END:DAYLIGHT
BEGIN:STANDARD
TZOFFSETFROM:+0200
TZOFFSETTO:+0100
TZNAME:CET
DTSTART:20221030T010000
END:STANDARD
END:VTIMEZONE
BEGIN:VEVENT
DTSTART;TZID=Europe/Zagreb:20220728T210000
DTEND;TZID=Europe/Zagreb:20220728T210000
DTSTAMP:20260424T124016
CREATED:20220725T083943Z
LAST-MODIFIED:20220725T085021Z
UID:6664-1659042000-1659042000@kucaarsen.hr
SUMMARY:Promocija izdanja „Ko ovo more platit“ povodom 84. obljetnice rođenja Arsena Dedića
DESCRIPTION:Povodom 84. obljetnice rođenja Arsena Dedića\, u četvrtak 28. srpnja u 21 sat u Kući umjetnosti Arsen bit će održana promocija izdanja „Ko ovo more platit“ Arsena Dedića i Luke Marottija. \n“Ko ovo more platit” donosi umjetničku sinergiju; Marottijeve fotografije prate Dedićevi stihovi tvoreći tako osebujnu toplu ‘slikopriču’. Kako u predgovoru izdanja kaže Zdenka Bilušić\, ‘dvostruki život fotografija pomiruje dvije istine- istinu koju Marotti vodi ispred objektiva i istinu koju Dedić oblikuje sjetnim konstatacijama crtom bliskoj struni koja ima svoj zvuk’. \nPublikaciju će predstaviti autor i fotograf Luka Marotti\, akademik Ratko Cvetnić\, Zdenka Bilušić i izdavači\, Hrvatski fotografski centar i Tvrđava kulture Šibenik\, a u programu sudjeluju i glumica Lucija Alfier te pijanist Ivan Varošanec. \nUlaz na događanje je slobodan!
URL:https://kucaarsen.hr/event/promocija-izdanja-ko-ovo-more-platit-povodom-84-obljetnice-rodenja-arsena-dedica/
LOCATION:Kuća umjetnosti Arsen\, Obala hrvatske mornarice 1\, Šibenik\, 22000
CATEGORIES:Najave
ATTACH;FMTTYPE=image/jpeg:https://kucaarsen.hr/wp-content/uploads/2022/07/VAB5840-e1659343628553.jpg
GEO:43.7324192;15.8902935
X-APPLE-STRUCTURED-LOCATION;VALUE=URI;X-ADDRESS=Kuća umjetnosti Arsen Obala hrvatske mornarice 1 Šibenik 22000;X-APPLE-RADIUS=500;X-TITLE=Obala hrvatske mornarice 1:geo:15.8902935,43.7324192
END:VEVENT
END:VCALENDAR