BEGIN:VCALENDAR
VERSION:2.0
PRODID:-//Kuća umjetnosti Arsen - ECPv5.5.0//NONSGML v1.0//EN
CALSCALE:GREGORIAN
METHOD:PUBLISH
X-WR-CALNAME:Kuća umjetnosti Arsen
X-ORIGINAL-URL:https://kucaarsen.hr
X-WR-CALDESC:Događaji za Kuća umjetnosti Arsen
BEGIN:VTIMEZONE
TZID:Europe/Zagreb
BEGIN:DAYLIGHT
TZOFFSETFROM:+0100
TZOFFSETTO:+0200
TZNAME:CEST
DTSTART:20240331T010000
END:DAYLIGHT
BEGIN:STANDARD
TZOFFSETFROM:+0200
TZOFFSETTO:+0100
TZNAME:CET
DTSTART:20241027T010000
END:STANDARD
END:VTIMEZONE
BEGIN:VEVENT
DTSTART;TZID=Europe/Zagreb:20240501T183000
DTEND;TZID=Europe/Zagreb:20240501T183000
DTSTAMP:20260421T234614
CREATED:20240426T122305Z
LAST-MODIFIED:20240426T122305Z
UID:10202-1714588200-1714588200@kucaarsen.hr
SUMMARY:Priscilla
DESCRIPTION:Priscilla\, r. Sofia Coppola\, SAD\, Italija\, 2023.\, 113′ (15) \nAmerička redateljica i scenaristica Sofia Coppola jedno je od najzanimljivijih ženskih autorskih imena nezavisnog filma. Nakon zapažene ekranizacije istoimenog romana Jeffreyja Eugenidesa Samoubojstvo nevinih (1999)\, njezin drugi film Izgubljeni u prijevodu sa Scarlett Johansson i Billom Murrayem u glavnim ulogama ubrzo postaje svojevrsnim klasikom novije kinematografije. Coppola je tada za scenarij nagrađena i Oscarom\, a postala je i prva Amerikanka s nominacijom za najbolju režiju. Uspjeh nastavlja i s filmovima Negdje (Zlatni lav\, Venecija 2010.) te Opčinjen (Nagrada za najbolju redateljicu\, Cannes 2017.) a njezin rad postaje prepoznatljiv po suptilnoj\, nenametljivoj režiji\, s posebnim naglaskom na ženske likove i njihova naoko uobičajena svakodnevna stanja i ponašanja. Teško iščitljive emocije\, Coppola nam ogoljuje svojom prepoznatljivom sanjivom kamerom i preciznim dijalozima\, a to posebno dolazi do izražaja u njezinom novom filmu\, biografiji Priscilla. \nInspiriran memorima Priscille Presley koji prate njezinu vezu s ikonom rock’n’rolla Elvisom Presleyem od najranijih dana\, film prati njezin odlazak u mitski Graceland sa svega 17 godina. Ono što se ispočetka čini kao san\, uskoro postaje život u zlatnoj krletki. Film je premijerno prikazan u Veneciji\, gdje je glumica Cailee Spaeny za ulogu Priscille osvojila nagradu Coppa Volpi za najbolju glumicu. \n\nULAZNICE\nZa Klub prijatelja 3\,50€/ redovna cijena 4€  \nUlaznice po redovnoj cijeni dostupne su online i na blagajni Kuće umjetnosti Arsen. \nČlanovi  Kluba prijatelja popust ostvaruju na fizičkim prodajnim mjestima uz predočenje važeće članske iskaznice.
URL:https://kucaarsen.hr/event/priscilla-2/
LOCATION:Kuća umjetnosti Arsen\, Obala hrvatske mornarice 1\, Šibenik\, 22000
CATEGORIES:Film
ATTACH;FMTTYPE=image/jpeg:https://kucaarsen.hr/wp-content/uploads/2024/03/PRISCILLA.jpg
GEO:43.7324192;15.8902935
X-APPLE-STRUCTURED-LOCATION;VALUE=URI;X-ADDRESS=Kuća umjetnosti Arsen Obala hrvatske mornarice 1 Šibenik 22000;X-APPLE-RADIUS=500;X-TITLE=Obala hrvatske mornarice 1:geo:15.8902935,43.7324192
END:VEVENT
END:VCALENDAR