BEGIN:VCALENDAR
VERSION:2.0
PRODID:-//Kuća umjetnosti Arsen - ECPv5.5.0//NONSGML v1.0//EN
CALSCALE:GREGORIAN
METHOD:PUBLISH
X-WR-CALNAME:Kuća umjetnosti Arsen
X-ORIGINAL-URL:https://kucaarsen.hr
X-WR-CALDESC:Događaji za Kuća umjetnosti Arsen
BEGIN:VTIMEZONE
TZID:Europe/Zagreb
BEGIN:DAYLIGHT
TZOFFSETFROM:+0100
TZOFFSETTO:+0200
TZNAME:CEST
DTSTART:20210328T010000
END:DAYLIGHT
BEGIN:STANDARD
TZOFFSETFROM:+0200
TZOFFSETTO:+0100
TZNAME:CET
DTSTART:20211031T010000
END:STANDARD
END:VTIMEZONE
BEGIN:VEVENT
DTSTART;TZID=Europe/Zagreb:20210619T203000
DTEND;TZID=Europe/Zagreb:20210619T203000
DTSTAMP:20260424T123823
CREATED:20210528T082702Z
LAST-MODIFIED:20210607T180500Z
UID:4118-1624134600-1624134600@kucaarsen.hr
SUMMARY:Prije revolucije
DESCRIPTION:Prima della rivoluzione\nItalija\, 1964.\, 84′\nRežija: Bernardo Bertolucci\nScenarij: Bernardo Bertolucci\, Gianni Amico\nUloge: Adriana Asti\, Francesco Barilli\, Allen Midgette\, Morando Morandini \n  \nRadnju svog drugog cjelovečernjeg filma Bernardo Bertolucci\, tada u svojim ranim 20-ima\, smjestio je u rodnu Parmu. Crpeći inspiraciju jednim dijelom iz vlastita života\, a drugim iz Stendhalova romana Parmski kartuzijanski samostan\, veliki talijanski direttore gradi svoju filmsku posvetu mladenačkoj strasti\, idealima i novoj generaciji 1960-ih koja će\, nošena poletom revolucionarnih ideja\, do kraja toga desetljeća oblikovati i ustoličiti pokrete otpora\, kulturu prosvjeda i snažnu političku svijest diljem svijeta. Kroz priču o mladom komunistu Fabriziju\, razapetom između predanosti marksističkim idealima i nasljeđa buržujske\, konformističke sredine iz koje je potekao\, Bertolucci ovim ostvarenjem otkriva utjecaje francuskog novog vala\, kojem će direktan celuloidni hommage ispisati i u recentnijem filmu Sanjari (2003). Ne čudi stoga da se talijanski redateljski velikan više puta vraćao u Cannnes\, na festival gdje je upravo za ovaj film osvojio svoju prvu nagradu (na kanskom Tjednu kritike) i gdje je 2011. primio najveće priznanje svojoj karijeri\, nagradu za životno djelo. \nIstovremeno\, Prije revolucije naviješta i redateljevu trajnu fascinaciju žanrom političkog filma te portretiranjem transgresivnih i kontroverznih aspekata seksualnosti. \nProslavljeni talijanski maestro Ennio Morricone upravo je ovim filmom zakoračio u svijet filmske glazbe\, gdje će ostaviti neizbrisiv trag i ući u antologiju ne samo filmskih skladbi\, nego i čitave glazbene umjetnosti prošloga stoljeća. Ne čudi stoga da se ovaj neprikosnoveni autoritet filmske glazbe našao među imenima koje je i naš veliki kantautor Arsen Dedić izdvojio kao omiljene autorske uzore\, dok je Prije revolucije svojevremeno uvrstio među filmove koje osobito voli. \n  \n(Tekst: Jelena Pašić\, vanjski suradnik u selekciji programa)
URL:https://kucaarsen.hr/event/prije-revolucije/
LOCATION:Kuća umjetnosti Arsen\, Obala hrvatske mornarice 1\, Šibenik\, 22000
CATEGORIES:Film
ATTACH;FMTTYPE=image/jpeg:https://kucaarsen.hr/wp-content/uploads/2021/05/film-prije-revolucije-kuca-arsen.jpg
GEO:43.7324192;15.8902935
X-APPLE-STRUCTURED-LOCATION;VALUE=URI;X-ADDRESS=Kuća umjetnosti Arsen Obala hrvatske mornarice 1 Šibenik 22000;X-APPLE-RADIUS=500;X-TITLE=Obala hrvatske mornarice 1:geo:15.8902935,43.7324192
END:VEVENT
END:VCALENDAR