BEGIN:VCALENDAR
VERSION:2.0
PRODID:-//Kuća umjetnosti Arsen - ECPv5.5.0//NONSGML v1.0//EN
CALSCALE:GREGORIAN
METHOD:PUBLISH
X-WR-CALNAME:Kuća umjetnosti Arsen
X-ORIGINAL-URL:https://kucaarsen.hr
X-WR-CALDESC:Događaji za Kuća umjetnosti Arsen
BEGIN:VTIMEZONE
TZID:Europe/Zagreb
BEGIN:DAYLIGHT
TZOFFSETFROM:+0100
TZOFFSETTO:+0200
TZNAME:CEST
DTSTART:20260329T010000
END:DAYLIGHT
BEGIN:STANDARD
TZOFFSETFROM:+0200
TZOFFSETTO:+0100
TZNAME:CET
DTSTART:20261025T010000
END:STANDARD
END:VTIMEZONE
BEGIN:VEVENT
DTSTART;TZID=Europe/Zagreb:20260225T180000
DTEND;TZID=Europe/Zagreb:20260225T180000
DTSTAMP:20260419T195909
CREATED:20260202T055705Z
LAST-MODIFIED:20260202T161113Z
UID:12586-1772042400-1772042400@kucaarsen.hr
SUMMARY:Priča o Siljanu
DESCRIPTION:Priča o Siljanu (The Tale of Silyan)\, r. Tamara Kotevska; Sjeverna Makedonija\, SAD; 2025.; 81′ \nNovi film redateljice Tamare Kotevske\, nominirane za Oscara za film Medena zemlja (2019.)\, dirljiva je i vizualno dojmljiva priča smještena u samo srce ruralne Makedonije. Nikola\, poljoprivrednik koji se bori s teškim posljedicama novih vladinih politika\, nalazi se u situaciji da ne može prodati svoju zemlju ni usjeve. Kada njegova obitelj ode u potrazi za boljim životom u inozemstvu\, Nikola prihvaća posao čuvara na odlagalištu otpada\, gdje susreće ozlijeđenu bijelu rodu Siljana. Dok je njeguje i pomaže joj da se oporavi\, između čovjeka i životinje stvara se neočekivana povezanost. Rezultat je duboko potresan film koji progovara o klimatskim promjenama\, ekonomskim migracijama\, otpornosti i tihoj snazi povezanosti. \nDokumentarac Priča o Siljanu poetska je oda ljudskoj izdržljivosti i povezanosti s prirodom\, film koji u jednostavnim prizorima pronalazi univerzalnu istinu o potrebi za pripadanjem i suosjećanjem. Film je prikazan u službenoj selekciji prestižnih festivala u Veneciji i Torontu. \n  \nULAZNICE: Za Klub prijatelja 4\,20 € / redovna cijena 6 €  \nUlaznice po redovnoj cijeni dostupne su online i na blagajni Kuće umjetnosti Arsen. \nČlanovi Kluba prijatelja popust ostvaruju na fizičkim prodajnim mjestima uz predočenje važeće članske iskaznice. \n 
URL:https://kucaarsen.hr/event/prica-o-siljanu/
LOCATION:Kuća umjetnosti Arsen\, Obala hrvatske mornarice 1\, Šibenik\, 22000
CATEGORIES:Film
ATTACH;FMTTYPE=image/jpeg:https://kucaarsen.hr/wp-content/uploads/2026/02/prica-o-siljanu-1.jpg
GEO:43.7324192;15.8902935
X-APPLE-STRUCTURED-LOCATION;VALUE=URI;X-ADDRESS=Kuća umjetnosti Arsen Obala hrvatske mornarice 1 Šibenik 22000;X-APPLE-RADIUS=500;X-TITLE=Obala hrvatske mornarice 1:geo:15.8902935,43.7324192
END:VEVENT
END:VCALENDAR