BEGIN:VCALENDAR
VERSION:2.0
PRODID:-//Kuća umjetnosti Arsen - ECPv5.5.0//NONSGML v1.0//EN
CALSCALE:GREGORIAN
METHOD:PUBLISH
X-WR-CALNAME:Kuća umjetnosti Arsen
X-ORIGINAL-URL:https://kucaarsen.hr
X-WR-CALDESC:Događaji za Kuća umjetnosti Arsen
BEGIN:VTIMEZONE
TZID:Europe/Zagreb
BEGIN:DAYLIGHT
TZOFFSETFROM:+0100
TZOFFSETTO:+0200
TZNAME:CEST
DTSTART:20250330T010000
END:DAYLIGHT
BEGIN:STANDARD
TZOFFSETFROM:+0200
TZOFFSETTO:+0100
TZNAME:CET
DTSTART:20251026T010000
END:STANDARD
END:VTIMEZONE
BEGIN:VEVENT
DTSTART;TZID=Europe/Zagreb:20250214T180000
DTEND;TZID=Europe/Zagreb:20250214T180000
DTSTAMP:20260421T013113
CREATED:20250206T085516Z
LAST-MODIFIED:20250206T124046Z
UID:11247-1739556000-1739556000@kucaarsen.hr
SUMMARY:Požuda
DESCRIPTION:Požuda (Babygirl)\, r. Halina Reijn; SAD; 2024.\, 114′ \n \nNajerotičniji film godine donio je oskarovki Nicole Kidman nagradu Coppa Volpi u Veneciji za jednu od najodvažnijih uloga u njezinoj karijeri. Nizozemska filmašica Haline Reijn\, koja se režiji okrenula nakon plodonosne glumačke karijere u kazalištu\, u filmu Požuda “sirovu strast” kapitalnih erotskih trilera Paula Verhoevena i Adriana Lynea kasnih 1980-ih i ranih 1990-ih transponira u 21. stoljeće\, u doba četvrtog vala feminizma i (post)MeeToo pokreta. \nPriča prati uspješnu direktoricu tvrtke\, ujedno i brižnu majku i voljenu suprugu. Čini se da Romy vodi idiličan život\, no nečega ipak nedostaje. Čvrsta struktura njezina života potpuno će se poljuljati kada se korporativnom timu pridruži mladi stažist Samuel. Romy i Samuel upuštaju se u burnu i riskantnu tajnu uredsku seksualnu vezu\, vođenu igrama dominacije i submisivnosti\, dok Romyna karijera i obitelj vise o niti neizvjesnosti. \nAnalizirajući karakter suvremenih muško-ženskih odnosa\, Požuda vješto balansira između intrige i senzualnosti\, zavodljivog i opasnog\, duhovitog i napetog. Nicole Kidman\, koja je za svoju smionu i nijansiranu izvedbu nominirana i za Zlatni globus\, u ulozi Samuela pridružio se Harris Dickinson\, kojeg je domaća publika u posljednje vrijeme gledala u filmovima Trokut tuge (2022.)\, Djevojka iz močvare (2022.) i Čelična kandža (2023.). Ulogu njezinog supruga Jacoba tumači Antonio Banderas. Kontroverzno ostvarenje prepuno erotike – povremeno komično\, a katkad dramatično\, ali dosljedno odvažno – nudi suvremen i iskren portret ženske seksualnosti\, toliko potreban “filmski masterclass o perverziji\, koji razbija kolektivni sram vezan uz seksualne fantazije kroz slojevitu priču ispričanu bez osuda” (Elle). \nProjekcija je dio programske linije Silver kojoj je cilj poticanje društvene inkluzije seniora. \nU sklopu programa Silver\, Klub prijatelja dobio je produžetak – Silver Klub prijatelja čiji članovi imaju imati besplatan pristup svim programima s prefiksom Silver i povlaštenu cijenu učlanjenja. \nČlanovima Silver Kluba prijatelja ulaz na projekciju je slobodan. \n  \nULAZNICE: Za Klub prijatelja 3\,50€ / redovna cijena 4€  \nUlaznice po redovnoj cijeni dostupne su online i na blagajni Kuće umjetnosti Arsen. \nČlanovi Kluba prijatelja popust ostvaruju na fizičkim prodajnim mjestima uz predočenje važeće članske iskaznice. \n 
URL:https://kucaarsen.hr/event/pozuda-3/
LOCATION:Kuća umjetnosti Arsen\, Obala hrvatske mornarice 1\, Šibenik\, 22000
CATEGORIES:Film
ATTACH;FMTTYPE=image/jpeg:https://kucaarsen.hr/wp-content/uploads/2025/01/Pozuda.jpg
GEO:43.7324192;15.8902935
X-APPLE-STRUCTURED-LOCATION;VALUE=URI;X-ADDRESS=Kuća umjetnosti Arsen Obala hrvatske mornarice 1 Šibenik 22000;X-APPLE-RADIUS=500;X-TITLE=Obala hrvatske mornarice 1:geo:15.8902935,43.7324192
END:VEVENT
END:VCALENDAR