BEGIN:VCALENDAR
VERSION:2.0
PRODID:-//Kuća umjetnosti Arsen - ECPv5.5.0//NONSGML v1.0//EN
CALSCALE:GREGORIAN
METHOD:PUBLISH
X-WR-CALNAME:Kuća umjetnosti Arsen
X-ORIGINAL-URL:https://kucaarsen.hr
X-WR-CALDESC:Događaji za Kuća umjetnosti Arsen
BEGIN:VTIMEZONE
TZID:Europe/Zagreb
BEGIN:DAYLIGHT
TZOFFSETFROM:+0100
TZOFFSETTO:+0200
TZNAME:CEST
DTSTART:20250330T010000
END:DAYLIGHT
BEGIN:STANDARD
TZOFFSETFROM:+0200
TZOFFSETTO:+0100
TZNAME:CET
DTSTART:20251026T010000
END:STANDARD
END:VTIMEZONE
BEGIN:VEVENT
DTSTART;TZID=Europe/Zagreb:20250305T180000
DTEND;TZID=Europe/Zagreb:20250305T180000
DTSTAMP:20260420T234054
CREATED:20250227T134944Z
LAST-MODIFIED:20250303T091833Z
UID:11401-1741197600-1741197600@kucaarsen.hr
SUMMARY:Oscar: Poplava
DESCRIPTION:Poplava (Straume)\, r. Gints Zilbalodis; Latvija\, Francuska\, Belgija; 2024.; 84′ \nOd lanjske premijere u programu Izvjestan pogled Filmskog festivala u Cannesu\, ostvarenje latvijskog filmskog autora i animatora Gintsa Zilbalodisa prometnulo se u jedan od najhvaljenijih i najnagrađivanijih animiranih filmova snimljenih u nezavisnoj produkciji posljednjih godina\, a senzacionalan uspjeh okrunjen je osvojenim Oscarom za najbolji dugometražni animirani film. Osim Oscarom (za koji je bila nominirana u kategorijama najboljeg stranog filma i najboljeg animiranog filma)\, Poplava se može pohvaliti i s osvojenom nagradom Zlatni globus te nagradom Europske filmske akademije. Osim toga\, film je izborio i čak četiri priznanja na Međunarodnom filmskom festivalu animiranog filma u Annecyju\, jednom od najuglednijih i najcjenjenijih festivala animiranog filma uopće. \nSnimljen bez dijaloga i ljudskih likova\, film pripovijeda o mački koja se budi u poplavljenom svijetu i mora savladati svoj strah od vode dok sa skupinom drugih životinja traga za kopnom. Poplava je punokrvni animirani spektakl\, ali i slojevita meditacija o krhkosti našeg okoliša te duhu prijateljstva i zajednice. “Jedan od najznačajnijih animiranih filmova o prirodi još od Bambija” (IndieWire) prava je gozba za osjetila kojoj se lako potpuno prepustiti. \n  \nULAZNICE: Za Klub prijatelja 3 € / redovna cijena 4 €  \nUlaznice po redovnoj cijeni dostupne su online i na blagajni Kuće umjetnosti Arsen. \nČlanovi Kluba prijatelja popust ostvaruju na fizičkim prodajnim mjestima uz predočenje važeće članske iskaznice. \n 
URL:https://kucaarsen.hr/event/poplava/
LOCATION:Kuća umjetnosti Arsen\, Obala hrvatske mornarice 1\, Šibenik\, 22000
CATEGORIES:Film
ATTACH;FMTTYPE=image/jpeg:https://kucaarsen.hr/wp-content/uploads/2025/02/Poplava.jpg
GEO:43.7324192;15.8902935
X-APPLE-STRUCTURED-LOCATION;VALUE=URI;X-ADDRESS=Kuća umjetnosti Arsen Obala hrvatske mornarice 1 Šibenik 22000;X-APPLE-RADIUS=500;X-TITLE=Obala hrvatske mornarice 1:geo:15.8902935,43.7324192
END:VEVENT
END:VCALENDAR