BEGIN:VCALENDAR
VERSION:2.0
PRODID:-//Kuća umjetnosti Arsen - ECPv5.5.0//NONSGML v1.0//EN
CALSCALE:GREGORIAN
METHOD:PUBLISH
X-WR-CALNAME:Kuća umjetnosti Arsen
X-ORIGINAL-URL:https://kucaarsen.hr
X-WR-CALDESC:Događaji za Kuća umjetnosti Arsen
BEGIN:VTIMEZONE
TZID:Europe/Zagreb
BEGIN:DAYLIGHT
TZOFFSETFROM:+0100
TZOFFSETTO:+0200
TZNAME:CEST
DTSTART:20230326T010000
END:DAYLIGHT
BEGIN:STANDARD
TZOFFSETFROM:+0200
TZOFFSETTO:+0100
TZNAME:CET
DTSTART:20231029T010000
END:STANDARD
END:VTIMEZONE
BEGIN:VEVENT
DTSTART;TZID=Europe/Zagreb:20231118T110000
DTEND;TZID=Europe/Zagreb:20231118T110000
DTSTAMP:20260419T191604
CREATED:20231113T074201Z
LAST-MODIFIED:20231113T074523Z
UID:9173-1700305200-1700305200@kucaarsen.hr
SUMMARY:Plavi kaputić
DESCRIPTION:‘Plavi kaputić’ naziv je prigodnog programa Kazališne udruge Virko koji će u Kući umjetnosti Arsen biti izveden na Dan sjećanja na žrtvu Vukovara i Škabrnje. \nPredstava počinje u 11 sati\, primjerena je za uzrast od 7 godina na više\, a ulaz je slobodan svima zainteresiranima. \n 
URL:https://kucaarsen.hr/event/plavi-kaputic/
LOCATION:Kuća umjetnosti Arsen\, Obala hrvatske mornarice 1\, Šibenik\, 22000
CATEGORIES:Djeca i mladi,Kazalište
ATTACH;FMTTYPE=image/png:https://kucaarsen.hr/wp-content/uploads/2023/11/18.png
GEO:43.7324192;15.8902935
X-APPLE-STRUCTURED-LOCATION;VALUE=URI;X-ADDRESS=Kuća umjetnosti Arsen Obala hrvatske mornarice 1 Šibenik 22000;X-APPLE-RADIUS=500;X-TITLE=Obala hrvatske mornarice 1:geo:15.8902935,43.7324192
END:VEVENT
END:VCALENDAR