BEGIN:VCALENDAR
VERSION:2.0
PRODID:-//Kuća umjetnosti Arsen - ECPv5.5.0//NONSGML v1.0//EN
CALSCALE:GREGORIAN
METHOD:PUBLISH
X-WR-CALNAME:Kuća umjetnosti Arsen
X-ORIGINAL-URL:https://kucaarsen.hr
X-WR-CALDESC:Događaji za Kuća umjetnosti Arsen
BEGIN:VTIMEZONE
TZID:Europe/Zagreb
BEGIN:DAYLIGHT
TZOFFSETFROM:+0100
TZOFFSETTO:+0200
TZNAME:CEST
DTSTART:20250330T010000
END:DAYLIGHT
BEGIN:STANDARD
TZOFFSETFROM:+0200
TZOFFSETTO:+0100
TZNAME:CET
DTSTART:20251026T010000
END:STANDARD
END:VTIMEZONE
BEGIN:VEVENT
DTSTART;TZID=Europe/Zagreb:20251025T200000
DTEND;TZID=Europe/Zagreb:20251025T200000
DTSTAMP:20260420T083235
CREATED:20251004T193632Z
LAST-MODIFIED:20251006T121354Z
UID:11869-1761422400-1761422400@kucaarsen.hr
SUMMARY:Paviljon
DESCRIPTION:Paviljon\, r. Dino Mustafić; BiH\, Hrvatska\, Srbija\, Sjeverna Makedonija\, Crna Gora; 2025.\, 100′ \n \nPaviljon\, film koji je otvorio ovogodišnji Sarajevo Film Festival\, crna je komedija o grupi stanara staračkog doma “Paviljon”\, koji se nakon godina zlostavljanja i poniženja odlučuju na oružanu pobunu. Naoružani ilegalnim sredstvima zauzimaju dom\, uzimaju osoblje za taoce i ulaze u sukob s vlastima… Uloge u filmu nose Rade Šerbedžija\, Branka Petrić\, Jasna Diklić\, Vladimir Jurc Lali i Zijah Sokolović. \n“Ovo je film o generaciji najstarijih koja se odlučila djelovati po svojoj savjesti u ovom vremenu”\, ističe redatelj Dino Mustafić o filmu koji je uslijedio nakon njegova uspješnog debija Remake\, jednog od najgledanijih filmova u BiH koji je na Rotterdam Film Festivalu proglašen jednim od pet najboljih ostvarenja. Scenarij za Paviljon napisao je prema vlastitoj istoimenoj priči legendarni novinar\, kolumnist i književnik Viktor Ivančić\, uz svog kolegu Emira Imamovića Pirkea. \nFilm će u razgovoru nakon projekcije predstaviti novinar\, urednik\, kolumnist i književnik Emir Imamović Pirke. \n  \nULAZNICE: Za Klub prijatelja 4\,20 € / redovna cijena 6 €  \nUlaznice po redovnoj cijeni dostupne su online i na blagajni Kuće umjetnosti Arsen. \nČlanovi Kluba prijatelja popust ostvaruju na fizičkim prodajnim mjestima uz predočenje važeće članske iskaznice. \n 
URL:https://kucaarsen.hr/event/paviljon-2/
LOCATION:Kuća umjetnosti Arsen\, Obala hrvatske mornarice 1\, Šibenik\, 22000
CATEGORIES:Film
ATTACH;FMTTYPE=image/jpeg:https://kucaarsen.hr/wp-content/uploads/2025/10/paviljon.jpeg
GEO:43.7324192;15.8902935
X-APPLE-STRUCTURED-LOCATION;VALUE=URI;X-ADDRESS=Kuća umjetnosti Arsen Obala hrvatske mornarice 1 Šibenik 22000;X-APPLE-RADIUS=500;X-TITLE=Obala hrvatske mornarice 1:geo:15.8902935,43.7324192
END:VEVENT
END:VCALENDAR