BEGIN:VCALENDAR
VERSION:2.0
PRODID:-//Kuća umjetnosti Arsen - ECPv5.5.0//NONSGML v1.0//EN
CALSCALE:GREGORIAN
METHOD:PUBLISH
X-WR-CALNAME:Kuća umjetnosti Arsen
X-ORIGINAL-URL:https://kucaarsen.hr
X-WR-CALDESC:Događaji za Kuća umjetnosti Arsen
BEGIN:VTIMEZONE
TZID:Europe/Zagreb
BEGIN:DAYLIGHT
TZOFFSETFROM:+0100
TZOFFSETTO:+0200
TZNAME:CEST
DTSTART:20230326T010000
END:DAYLIGHT
BEGIN:STANDARD
TZOFFSETFROM:+0200
TZOFFSETTO:+0100
TZNAME:CET
DTSTART:20231029T010000
END:STANDARD
END:VTIMEZONE
BEGIN:VEVENT
DTSTART;TZID=Europe/Zagreb:20230305T203000
DTEND;TZID=Europe/Zagreb:20230305T203000
DTSTAMP:20260423T082214
CREATED:20230227T101748Z
LAST-MODIFIED:20230301T100606Z
UID:7973-1678048200-1678048200@kucaarsen.hr
SUMMARY:Osam planina
DESCRIPTION:Osam planina\, redatelj Felix van Groeningen\, Charlotte Vandermeersch\, Italija\, Belgija\, Francuska\, Velika Britanija\, 2022.\, 147′ (12) \nSpektakularna drama redatelja Felixa van Groeningena (Alabama Monroe\, Divan mladić) i Charlotte Vandermeersch ovjenčana Nagradom žirija u Cannesu\, svoju priču duguje istoimenom romanu Paola Cognettija\, talijanskog pisca koji se proslavio romanima temeljenim na iskustvu života u planinama. Istoimeni roman (Osam planina\, Fraktura\, 2018.) meditacija je o prijateljstvu i prirodi\, o očevima i sinovima. Preveden je na više od četrdeset svjetskih jezika\, a među brojnim nagradama izdvaja se talijanska Strega\, francuski Prix Médicis i nagrada engleskog PEN-a. Junake filma\, jedanaestogodišnjeg pastira Brunu i gradskog dječaka Pietra povezuje neraskidivo prijateljstvo koje je započelo jednog čarobnog ljeta u Alpama. Tijekom godina njihovi se životni putevi razilaze. Bruno će ostati vjeran svojoj planini\, a Pietro će proputovati svijet režirajući dokumentarne filmove. No uvijek će se iznova vraćati u tiho planinsko utočište svoga djetinjstva. \n_______________________________________________________________________________________________ \nULAZNICE: 3€ / 3\,50€   \nDostupne online u City Pointu i na blagajni Kuće umjetnosti Arsen. \nČlanovi Kluba prijatelja šibenskih tvrđava uz predočenje važeće članske iskaznice pri kupnji ulaznica za film na fizičkim prodajnim mjestima ostvaruju popust i za njih cijena iznosi 3 eura. \nOstatak programa Art kina Arsen pogledajte ovdje. \n\nART KINO ARSEN\nCjelogodišnji program art kina Arsen sastoji se od aktualnih distributerskih naslova iz niše nezavisnog igranog i dokumentarnog filma\, recentnog festivalskog programa\, izbora iz kinotečnog programa te matineja filmova za djecu\, uz dodatak edukativnih programa za odrasle i djecu. Koordinatorica programa je Jelena Svirčić. \nProgram se dijeli u 4 pravca: redovni i dokumentarni program\, kinotečni program Češljaonica i matineje za djecu u sklopu programa Bubamarac. \nČEŠLJAONICA – bitno iz povijesti filma \nTemeljni zadatak kinotečnom filmskom programu Češljaonica jest svim zainteresiranim osobama na velikom platnu Kuće umjetnosti Arsen projicirati niz iznimnih i značajnih filmskih ostvarenja odabranih metodom svojevrsnog češljanja kroz povijest svjetske kinematografije. \nOdabiratelj i uvodničar pred projekcije je Ante Storić\, a filmove gledamo jednom mjesečno.
URL:https://kucaarsen.hr/event/osam-planina-2/
LOCATION:Kuća umjetnosti Arsen\, Obala hrvatske mornarice 1\, Šibenik\, 22000
CATEGORIES:Film
ATTACH;FMTTYPE=image/jpeg:https://kucaarsen.hr/wp-content/uploads/2023/01/osam-planina.jpg
GEO:43.7324192;15.8902935
X-APPLE-STRUCTURED-LOCATION;VALUE=URI;X-ADDRESS=Kuća umjetnosti Arsen Obala hrvatske mornarice 1 Šibenik 22000;X-APPLE-RADIUS=500;X-TITLE=Obala hrvatske mornarice 1:geo:15.8902935,43.7324192
END:VEVENT
END:VCALENDAR