BEGIN:VCALENDAR
VERSION:2.0
PRODID:-//Kuća umjetnosti Arsen - ECPv5.5.0//NONSGML v1.0//EN
CALSCALE:GREGORIAN
METHOD:PUBLISH
X-WR-CALNAME:Kuća umjetnosti Arsen
X-ORIGINAL-URL:https://kucaarsen.hr
X-WR-CALDESC:Događaji za Kuća umjetnosti Arsen
BEGIN:VTIMEZONE
TZID:Europe/Zagreb
BEGIN:DAYLIGHT
TZOFFSETFROM:+0100
TZOFFSETTO:+0200
TZNAME:CEST
DTSTART:20230326T010000
END:DAYLIGHT
BEGIN:STANDARD
TZOFFSETFROM:+0200
TZOFFSETTO:+0100
TZNAME:CET
DTSTART:20231029T010000
END:STANDARD
END:VTIMEZONE
BEGIN:VEVENT
DTSTART;TZID=Europe/Zagreb:20231009T210000
DTEND;TZID=Europe/Zagreb:20231009T210000
DTSTAMP:20260420T154017
CREATED:20230919T132005Z
LAST-MODIFIED:20230920T080354Z
UID:8814-1696885200-1696885200@kucaarsen.hr
SUMMARY:NeNoNot
DESCRIPTION:NeNoNot\, solo projekt skladatelja i performera Nenada Sinkauza nastao je spajanjem električne gitare i elektronike\, odnosno sempliranjem raznih zvukova električnih i akustičnih instrumenata. Vrhunsko sviračko umijeće i istančan osjećaj za melodiju i ritam Sinkauz je pretočio u izvedbu koju vrijedi poslušati uživo. \nSinkauz se u ovom projektu bavi midi mapiranjem električne gitare te njezinom ekstremnom zvučnom ekstenzijom. Mapirani zvukovi variraju od ‘field recordinga’\, odnosno snimanja vanjskih zvukova do sempliranih električnih i akustičnih instrumenata. U nekim trenucima gitara služi samo kao triger za unaprijed snimljene materijale dok ponekad isti prate melodijske i ritmičke fraze na instrumentu. \nNenad Sinkauz magistrirao je etnomuzikologiju na filozofskom fakultetu u Padovi. Po zanimanju je skladatelj i performer u raznim glazbenim\, plesnim\, kazališnim i multidisciplinarnim projektima. Njegov rad je usmjeren prema istraživanju transverzalnih glazbenih formi. Dobitnik je četiri Zlatne arene te nagrade za najbolju glazbu na Danima hrvatskog filma. Surađuje kao skladatelj na brojnim filmskim\, kazališnim\, plesnim i multimedijalnim projektima. \nKoncert NeNoNot je organiziran je u suradnji s Obrt studiom. \n\nULAZNICE\nULAZNICE: Za Klub prijatelje 4€ (30\,14 kn) / redovna cijena 6€  (45\,21 kn) \nUlaznice po redovnoj cijeni dostupne su online\, u City Pointu i na blagajni Kuće umjetnosti Arsen. \nČlanovi Kluba prijatelja šibenskih tvrđava popust ostvaruju na fizičkim prodajnim mjestima uz predočenje važeće članske iskaznice. \n 
URL:https://kucaarsen.hr/event/nenonot/
LOCATION:Kuća umjetnosti Arsen\, Obala hrvatske mornarice 1\, Šibenik\, 22000
CATEGORIES:Glazba
ATTACH;FMTTYPE=image/jpeg:https://kucaarsen.hr/wp-content/uploads/2023/09/OBRT-NET-vizuali-3.jpg
GEO:43.7324192;15.8902935
X-APPLE-STRUCTURED-LOCATION;VALUE=URI;X-ADDRESS=Kuća umjetnosti Arsen Obala hrvatske mornarice 1 Šibenik 22000;X-APPLE-RADIUS=500;X-TITLE=Obala hrvatske mornarice 1:geo:15.8902935,43.7324192
END:VEVENT
END:VCALENDAR