BEGIN:VCALENDAR
VERSION:2.0
PRODID:-//Kuća umjetnosti Arsen - ECPv5.5.0//NONSGML v1.0//EN
CALSCALE:GREGORIAN
METHOD:PUBLISH
X-WR-CALNAME:Kuća umjetnosti Arsen
X-ORIGINAL-URL:https://kucaarsen.hr
X-WR-CALDESC:Događaji za Kuća umjetnosti Arsen
BEGIN:VTIMEZONE
TZID:Europe/Zagreb
BEGIN:DAYLIGHT
TZOFFSETFROM:+0100
TZOFFSETTO:+0200
TZNAME:CEST
DTSTART:20240331T010000
END:DAYLIGHT
BEGIN:STANDARD
TZOFFSETFROM:+0200
TZOFFSETTO:+0100
TZNAME:CET
DTSTART:20241027T010000
END:STANDARD
END:VTIMEZONE
BEGIN:VEVENT
DTSTART;TZID=Europe/Zagreb:20240408T193000
DTEND;TZID=Europe/Zagreb:20240408T193000
DTSTAMP:20260424T142400
CREATED:20240318T091311Z
LAST-MODIFIED:20240318T091514Z
UID:10028-1712604600-1712604600@kucaarsen.hr
SUMMARY:Moje pjesme\, moji snovi
DESCRIPTION:‘Moje pjesme\, moji snovi’ naziv je glazbene radionice za sve koji žele naučiti pjevati\, ovladati talentom i okušati se u pjevanju pred publikom u trajanju dva mjeseca\, a mentori su šibenski glazbenici Nataša Cvitan i Mate Anić. \nSvrha radionice je polaznicima otvoriti nove izvođačke horizonte\, približiti pozornicu i odnos s publikom. U fokusu će biti scena\, interpretacija\, izgovor\, emocija\, glazba\, vokal\, vokalna tehnika\, disanje\, svladavanje treme te ovladavanje scenskim nastupom. \nU svibnju će polaznici održati završni koncert. \nVRIJEME ODRŽAVANJA: ponedjeljkom (11. ožujka – 13. svibnja) u 19\,30 sati \nBroj polaznika: 17 \n 
URL:https://kucaarsen.hr/event/moje-pjesme-moji-snovi-5/
LOCATION:Kuća umjetnosti Arsen\, Obala hrvatske mornarice 1\, Šibenik\, 22000
CATEGORIES:Radionica
ATTACH;FMTTYPE=image/png:https://kucaarsen.hr/wp-content/uploads/2024/03/moje-pjesme-moji-snovi-viz.png
GEO:43.7324192;15.8902935
X-APPLE-STRUCTURED-LOCATION;VALUE=URI;X-ADDRESS=Kuća umjetnosti Arsen Obala hrvatske mornarice 1 Šibenik 22000;X-APPLE-RADIUS=500;X-TITLE=Obala hrvatske mornarice 1:geo:15.8902935,43.7324192
END:VEVENT
END:VCALENDAR