BEGIN:VCALENDAR
VERSION:2.0
PRODID:-//Kuća umjetnosti Arsen - ECPv5.5.0//NONSGML v1.0//EN
CALSCALE:GREGORIAN
METHOD:PUBLISH
X-WR-CALNAME:Kuća umjetnosti Arsen
X-ORIGINAL-URL:https://kucaarsen.hr
X-WR-CALDESC:Događaji za Kuća umjetnosti Arsen
BEGIN:VTIMEZONE
TZID:Europe/Zagreb
BEGIN:DAYLIGHT
TZOFFSETFROM:+0100
TZOFFSETTO:+0200
TZNAME:CEST
DTSTART:20250330T010000
END:DAYLIGHT
BEGIN:STANDARD
TZOFFSETFROM:+0200
TZOFFSETTO:+0100
TZNAME:CET
DTSTART:20251026T010000
END:STANDARD
END:VTIMEZONE
BEGIN:VEVENT
DTSTART;TZID=Europe/Zagreb:20251101T180000
DTEND;TZID=Europe/Zagreb:20251101T180000
DTSTAMP:20260420T085027
CREATED:20251004T193620Z
LAST-MODIFIED:20251006T121816Z
UID:11843-1762020000-1762020000@kucaarsen.hr
SUMMARY:Mirotvorac
DESCRIPTION:Mirotvorac\, r. Ivan Ramljak; Hrvatska; 2025.; 99′ \nPobjednički film ovogodišnjeg Pulskog filmskog festivala\, hvaljeni dokumentarac Mirotvorac\, snimljen je u režiji Ivana Ramljaka i pod okriljem produkcijske kuće Factum. Velika Zlatna arena za najbolji film Mirotvorcu je dodijeljena uz sljedeće riječi žirija: Film iz arhivskog materijala oblikuje portret čovjeka čija je uloga u povijesti ostala prešućena\, iako je mogla promijeniti njezin tijek. U toj gesti vraćanja glasa zaboravljenom pojedincu\, Josipu Reihl-Kiru\, film nenametljivo ali snažno progovara o vrijednosti izbora koji ne ostavljaju trag u novinskim naslovima\, ali govore o ljudskosti. Priča o čovjeku kojeg se htjelo zaboraviti postao je film koji se ne može zaboraviti. \nGodine 1991. na ulazu u Tenju ubijen je Josip Reihl-Kir\, načelnik Osječke policije\, čovjek posvećen pregovorima i izbjegavanju rata. Mirotvorac je priča o posljednjih nekoliko mjeseci njegova života u osvit krvavog hrvatsko-srpskog rata\, koji je Kir svim silama pokušao spriječiti\, ispričana kroz izjave nekoliko svjedoka i pomoću arhivskih materijala iz tog doba. I danas\, nakon više od trideset godina\, mnogi su elementi tog ubojstva nerazjašnjeni\, a mogući nalogodavci – nepoznati. Autor Ivan Ramljak jedan je od najznačajnijih hrvatskih dokumentarista srednje generacije (El Shatt – nacrt za utopiju\, 2023.; O jednoj mladosti\, 2020.; Kino otok\, 2016.)\, prepoznatljiv po svom osebujnom pristupu povijesnim temama. Uz Ramljaka\, scenarij Mirotvorca potpisuju ugledni istraživački novinari Drago Hedl i Hrvoje Zovko. Mirotvorac je dosad osvojio nekoliko važnih nagrada\, među kojima su i Zlatna arena za montažu (Damir Čučić)\, nagrada publike na Cinehill Film Festivalu te nagrade za najbolji film po odabiru žirija i publike na Liburnia Film Festivalu. \n  \nULAZNICE: Za Klub prijatelja 4\,20 € / redovna cijena 6 €  \nUlaznice po redovnoj cijeni dostupne su online i na blagajni Kuće umjetnosti Arsen. \nČlanovi Kluba prijatelja popust ostvaruju na fizičkim prodajnim mjestima uz predočenje važeće članske iskaznice. \n 
URL:https://kucaarsen.hr/event/mirotvorac-3/
LOCATION:Kuća umjetnosti Arsen\, Obala hrvatske mornarice 1\, Šibenik\, 22000
CATEGORIES:Film
ATTACH;FMTTYPE=image/jpeg:https://kucaarsen.hr/wp-content/uploads/2025/04/Mirotvorac-1.jpeg
GEO:43.7324192;15.8902935
X-APPLE-STRUCTURED-LOCATION;VALUE=URI;X-ADDRESS=Kuća umjetnosti Arsen Obala hrvatske mornarice 1 Šibenik 22000;X-APPLE-RADIUS=500;X-TITLE=Obala hrvatske mornarice 1:geo:15.8902935,43.7324192
END:VEVENT
END:VCALENDAR