BEGIN:VCALENDAR
VERSION:2.0
PRODID:-//Kuća umjetnosti Arsen - ECPv5.5.0//NONSGML v1.0//EN
CALSCALE:GREGORIAN
METHOD:PUBLISH
X-WR-CALNAME:Kuća umjetnosti Arsen
X-ORIGINAL-URL:https://kucaarsen.hr
X-WR-CALDESC:Događaji za Kuća umjetnosti Arsen
BEGIN:VTIMEZONE
TZID:Europe/Zagreb
BEGIN:DAYLIGHT
TZOFFSETFROM:+0100
TZOFFSETTO:+0200
TZNAME:CEST
DTSTART:20240331T010000
END:DAYLIGHT
BEGIN:STANDARD
TZOFFSETFROM:+0200
TZOFFSETTO:+0100
TZNAME:CET
DTSTART:20241027T010000
END:STANDARD
END:VTIMEZONE
BEGIN:VEVENT
DTSTART;TZID=Europe/Zagreb:20240512T110000
DTEND;TZID=Europe/Zagreb:20240512T110000
DTSTAMP:20260422T021504
CREATED:20240429T071240Z
LAST-MODIFIED:20240429T071240Z
UID:10228-1715511600-1715511600@kucaarsen.hr
SUMMARY:Miraculous film: Pustolovine Bubamare i Crnog Mačka
DESCRIPTION:Miraculous film: Pustolovine Bubamare i Crnog Mačka\, r. Jeremy Zag\, Francuska\, 2023.\, animirani\, sinkr. \n  \nFilm Miraculous: Pustolovine Bubamare i Crnog Mačka očaravajuća je animirana avantura koja dolazi iz Francuske\, zemlje poznate po svojoj bogatoj animacijskoj tradiciji. Film se temelji na popularnoj istoimenoj TV seriji koja je osvojila srca mladih gledatelja diljem svijeta. Thomas Astruc\, filmaš poznat po svojoj kreativnosti i inovativnosti u svijetu animacije\, vodi gledatelje na uzbudljivo putovanje kroz živopisne ulice Pariza.  \nMarinette i Adrien\, dvoje su tinejdžera koji postaju superheroji Bubamara i Crni Mačak\, i iako ne znaju za moći jedno drugog\, zajedno će se suočiti s nevjerojatnim izazovima\, boreći se protiv zlikovaca koje stvara zlokobni Hawk Moth.  \nFilm kombinira elemente avanture\, romantike i humora\, vizualno je impresivan i emocionalno bogat\, nudi dinamičnu radnju i nezaboravne trenutke inspiracije i hrabrosti. \n  \n\n\nULAZNICE: 3\,00 € (22\,50 kn) \nDostupne online i na blagajni Kuće umjetnosti Arsen. \n\nBubamarac\, program za djecu i mlade Kuće umjetnosti Arsen jedini je kontinuirani program za tu publiku u Šibeniku i sačinjava četvrtinu godišnjeg programa Arsena. Nije trebalo dugo da se upravo on prometne u najuspješniju programsku liniju Arsena. Subotnje predstave za najmlađu publiku (3+) dočekuju se s oduševljenjem\, a filmski naslovi za malo starije filmofile (7+) našli su svoju publiku. \nZa male se Bubamarce organiziraju i radionice iz područja filma\, slikarstva\, arhitekture i stvaralaštva općenito kako bi se od najranije dobi mladima prezentirale i približile sve vrste umjetnosti (vizualne i nevizualne / materijalne i nematerijalne). \nUključivanjem\, poticanjem i razvojem interesa djece za kulturne vrijednosti i razvijamo novu kulturnu publiku kojoj će kultura (u bilo kojem svom obliku) biti neophodan dio života.
URL:https://kucaarsen.hr/event/miraculous-film-pustolovine-bubamare-i-crnog-macka-2/
LOCATION:Kuća umjetnosti Arsen\, Obala hrvatske mornarice 1\, Šibenik\, 22000
CATEGORIES:Djeca i mladi,Film
ATTACH;FMTTYPE=image/png:https://kucaarsen.hr/wp-content/uploads/2024/04/BUBAMARA-I-CRNA-MACKA.png
GEO:43.7324192;15.8902935
X-APPLE-STRUCTURED-LOCATION;VALUE=URI;X-ADDRESS=Kuća umjetnosti Arsen Obala hrvatske mornarice 1 Šibenik 22000;X-APPLE-RADIUS=500;X-TITLE=Obala hrvatske mornarice 1:geo:15.8902935,43.7324192
END:VEVENT
END:VCALENDAR