BEGIN:VCALENDAR
VERSION:2.0
PRODID:-//Kuća umjetnosti Arsen - ECPv5.5.0//NONSGML v1.0//EN
CALSCALE:GREGORIAN
METHOD:PUBLISH
X-WR-CALNAME:Kuća umjetnosti Arsen
X-ORIGINAL-URL:https://kucaarsen.hr
X-WR-CALDESC:Događaji za Kuća umjetnosti Arsen
BEGIN:VTIMEZONE
TZID:Europe/Zagreb
BEGIN:DAYLIGHT
TZOFFSETFROM:+0100
TZOFFSETTO:+0200
TZNAME:CEST
DTSTART:20260329T010000
END:DAYLIGHT
BEGIN:STANDARD
TZOFFSETFROM:+0200
TZOFFSETTO:+0100
TZNAME:CET
DTSTART:20261025T010000
END:STANDARD
END:VTIMEZONE
BEGIN:VEVENT
DTSTART;TZID=Europe/Zagreb:20260402T210000
DTEND;TZID=Europe/Zagreb:20260402T210000
DTSTAMP:20260424T122730
CREATED:20260219T134102Z
LAST-MODIFIED:20260219T134102Z
UID:12685-1775163600-1775163600@kucaarsen.hr
SUMMARY:Mimika Orchestra
DESCRIPTION:Na Arsen Jazz pozornicu 2. travnja stiže energični Mimika Orchestra. Ovaj jedinstveni ansambl pokazat će u Kući umjetnosti Arsen kako majstorski spaja bogate tradicije svjetske glazbe s dinamičnom energijom suvremenog jazza. \n Mimika Orchestra je osnovan 2010. godine u Londonu\, a danas ima sjedište u Zagrebu te hrvatsku publiku i dalje oduševljava svojim snažnim i inovativnim zvukom. Predvođen hvaljenim skladateljem i dirigentom Makom Murtićem\, avangardni Mimika Orchestra spaja raznolike glazbene utjecaje\, stvarajući uistinu jedinstveno iskustvo slušanja koje podjednako slavi i tradiciju i suvremenost. Murtićeve originalne skladbe duboko se oslanjaju na balkanske narodne tradicije\, miješajući prepoznatljive načine i ritmove sa suvremenim jazzom kako bi stvorili snažan i filmski zvuk. \nMedzotermina\, peti studijski album Mimika Orchestra\, snimljen je većim dijelom u Koncertnoj dvorani Vatroslava Lisinskog i donosi devet autorskih skladbi. Album tematski zaokružuje trilogiju započetu izdanjima Divinities of the Earth and the Waters i Altur Mur\, baveći se odnosima identiteta\, društva\, prirode te iluzijom prosperiteta suvremenog svijeta. \nMimika Orchestra kroz svoju glazbu stvara ritualni prostor povezivanja\, istražujući što suvremeni jazz može biti kada se duboko ukorijeni u regionalni identitet i kolektivno iskustvo. Bilo da istražuje dubine kulturne baštine ili pomiče granice jazza\, Mimika Orchestra stoji kao dokaz moći glazbe da povezuje ljude i inspirira budućnost. \nULAZNICE \nZa Klub prijatelja 10\,50 € / redovna cijena 15€ \nUlaznice po redovnoj cijeni dostupne su online i na blagajni Kuće umjetnosti Arsen. \nČlanovi Kluba prijatelja ostvaruju 30% popusta na blagajni uz predočenje važeće članske iskaznice.
URL:https://kucaarsen.hr/event/mimika-orchestra-2/
LOCATION:Kuća umjetnosti Arsen\, Obala hrvatske mornarice 1\, Šibenik\, 22000
CATEGORIES:Glazba
ATTACH;FMTTYPE=image/jpeg:https://kucaarsen.hr/wp-content/uploads/2026/02/arsen_jazz_1920_1080_mimika_orchestra.jpg
GEO:43.7324192;15.8902935
X-APPLE-STRUCTURED-LOCATION;VALUE=URI;X-ADDRESS=Kuća umjetnosti Arsen Obala hrvatske mornarice 1 Šibenik 22000;X-APPLE-RADIUS=500;X-TITLE=Obala hrvatske mornarice 1:geo:15.8902935,43.7324192
END:VEVENT
END:VCALENDAR