BEGIN:VCALENDAR
VERSION:2.0
PRODID:-//Kuća umjetnosti Arsen - ECPv5.5.0//NONSGML v1.0//EN
CALSCALE:GREGORIAN
METHOD:PUBLISH
X-WR-CALNAME:Kuća umjetnosti Arsen
X-ORIGINAL-URL:https://kucaarsen.hr
X-WR-CALDESC:Događaji za Kuća umjetnosti Arsen
BEGIN:VTIMEZONE
TZID:Europe/Zagreb
BEGIN:DAYLIGHT
TZOFFSETFROM:+0100
TZOFFSETTO:+0200
TZNAME:CEST
DTSTART:20250330T010000
END:DAYLIGHT
BEGIN:STANDARD
TZOFFSETFROM:+0200
TZOFFSETTO:+0100
TZNAME:CET
DTSTART:20251026T010000
END:STANDARD
END:VTIMEZONE
BEGIN:VEVENT
DTSTART;TZID=Europe/Zagreb:20251103T200000
DTEND;TZID=Europe/Zagreb:20251103T200000
DTSTAMP:20260420T120646
CREATED:20251031T113323Z
LAST-MODIFIED:20251031T113425Z
UID:12093-1762200000-1762200000@kucaarsen.hr
SUMMARY:Mediteran između valova i ljudi: Projekcija filma Sandra
DESCRIPTION:Revija mediteranskog filma prikazuje se u sklopu projekta “Mediteran – između valova i ljudi” kojeg provode udruge Mala filozofija i Centar nezavisne kulture iz Zadra povodom obilježavanja 30 godina od osnutka Euro – Mediterana programom „30 dana za 30. godišnjicu Euro-Mediterana” \nSandra\, r. Luchino Visconti\, Italija\, Francuska 1965.; 105 min \nFilm Sandra talijanskog majstora Luchina Viscontija je mračna\, raskošna melodrama\, moderna adaptacija mita o Elektri i Orestu\, smještena u drevni grad Volterru u Toskani. Radnja prati Sandru (Claudia Cardinale)\, mladu Talijanku koja se\, u pratnji svog američkog muža\, vraća u obiteljsku vilu kako bi prisustvovala ceremoniji posvećenoj njezinom ocu\, židovskom znanstveniku ubijenom u nacističkom logoru. \nNjezin povratak ponovno rasplamsava intenzivnu\, incestuoznu vezu s bratom Giannjem\, s kojim dijeli uvjerenje da su njihovi majka i očuh odgovorni za očevu smrt. Film postaje gotika modernizma\, gdje se obiteljski dekadencija\, dekadentna tjeskoba i povijesna trauma (nacizam i antisemitizam) prepliću unutar raskošne\, ali propadajuće aristokratske vile. Visconti koristi stiliziranu kinematografiju i naglašene emocionalne sukobe kako bi prikazao unutrašnji raspad Sandre\, čiji se napeti odnosi i opsesija prošlošću sudaraju s njenom nemogućnošću suočavanja sa stvarnošću. \nFilm je osvojio Zlatnog lava na Venecijanskom filmskom festivalu 1965. godine\, a prikazujemo ga u sjećanje na nedavno preminulu divu talijanske kinematografije – Claudiu Cardinale. \nUlaz na projekciju je besplatan\, a broj mjesta je ograničen.
URL:https://kucaarsen.hr/event/mediteran-izmedu-valova-i-ljudi-projekcija-filma-sandra/
LOCATION:Kuća umjetnosti Arsen\, Obala hrvatske mornarice 1\, Šibenik\, 22000
CATEGORIES:Film
ATTACH;FMTTYPE=image/jpeg:https://kucaarsen.hr/wp-content/uploads/2025/10/Sandra-2.jpg
GEO:43.7324192;15.8902935
X-APPLE-STRUCTURED-LOCATION;VALUE=URI;X-ADDRESS=Kuća umjetnosti Arsen Obala hrvatske mornarice 1 Šibenik 22000;X-APPLE-RADIUS=500;X-TITLE=Obala hrvatske mornarice 1:geo:15.8902935,43.7324192
END:VEVENT
END:VCALENDAR