BEGIN:VCALENDAR
VERSION:2.0
PRODID:-//Kuća umjetnosti Arsen - ECPv5.5.0//NONSGML v1.0//EN
CALSCALE:GREGORIAN
METHOD:PUBLISH
X-WR-CALNAME:Kuća umjetnosti Arsen
X-ORIGINAL-URL:https://kucaarsen.hr
X-WR-CALDESC:Događaji za Kuća umjetnosti Arsen
BEGIN:VTIMEZONE
TZID:Europe/Zagreb
BEGIN:DAYLIGHT
TZOFFSETFROM:+0100
TZOFFSETTO:+0200
TZNAME:CEST
DTSTART:20250330T010000
END:DAYLIGHT
BEGIN:STANDARD
TZOFFSETFROM:+0200
TZOFFSETTO:+0100
TZNAME:CET
DTSTART:20251026T010000
END:STANDARD
END:VTIMEZONE
BEGIN:VEVENT
DTSTART;TZID=Europe/Zagreb:20251104T180000
DTEND;TZID=Europe/Zagreb:20251104T180000
DTSTAMP:20260420T102803
CREATED:20251031T115905Z
LAST-MODIFIED:20251031T115905Z
UID:12098-1762279200-1762279200@kucaarsen.hr
SUMMARY:Mediteran između valova i ljudi: Projekcija filma Nasljednik
DESCRIPTION:Revija mediteranskog filma prikazuje se u sklopu projekta “Mediteran – između valova i ljudi” kojeg provode udruge Mala filozofija i Centar nezavisne kulture iz Zadra povodom obilježavanja 30 godina od osnutka Euro – Mediterana programom „30 dana za 30. godišnjicu Euro-Mediterana” \nNasljednik\, r.Xavier Legrand\, Belgija 2023.\, francuski\, 107 min. \nNasljednik\, drugi dugometražni film francuskog redatelja Xaviera Legranda (poznatog po izvrsnom debiju Skrbništvo)\, napet je psihološki triler koji se vješto transformira iz elegantne perzentacije svijeta visoke mode u klaustrofobični košmar. \nFilm prati Elliasa Barnèsa (Marc-André Grondin)\, uspješnog mladog kreativnog direktora pariške modne kuće\, čiji se stresni život vrti oko glamura i visokog društva. Iako se čini da je na vrhuncu karijere\, Ellias počinje osjećati bol u prsima. Kada neočekivano umre njegov otuđeni otac u Montrealu\, Ellias odlazi riješiti formalnosti\, no tamo otkriva mračnu i šokantnu obiteljsku tajnu. \nLegrand majstorski gradi sporu\, ali stalno rastuću prijetnju. Koristi atmosferu i minimalizam da bi gledatelja uvukao u spiralu nelagode\, gdje Ellias shvaća da je naslijedio mnogo gore od očevog slabog srca. Film je tragedija o toksičnoj muškosti i naslijeđenom zlu koja plijeni discipliniranom kontrolom nad kamerom i sposobnošću da stvori intenzivno i šokantno kino iskustvo. \nUlaz na projekciju je besplatan\, a broj mjesta je ograničen.
URL:https://kucaarsen.hr/event/mediteran-izmedu-valova-i-ljudi-projekcija-filma-nasljednik/
LOCATION:Kuća umjetnosti Arsen\, Obala hrvatske mornarice 1\, Šibenik\, 22000
CATEGORIES:Film
ATTACH;FMTTYPE=image/jpeg:https://kucaarsen.hr/wp-content/uploads/2025/10/1-THE-SUCCESSOR-still-2-c-evamaudetc-scaled.jpg
GEO:43.7324192;15.8902935
X-APPLE-STRUCTURED-LOCATION;VALUE=URI;X-ADDRESS=Kuća umjetnosti Arsen Obala hrvatske mornarice 1 Šibenik 22000;X-APPLE-RADIUS=500;X-TITLE=Obala hrvatske mornarice 1:geo:15.8902935,43.7324192
END:VEVENT
END:VCALENDAR