BEGIN:VCALENDAR
VERSION:2.0
PRODID:-//Kuća umjetnosti Arsen - ECPv5.5.0//NONSGML v1.0//EN
CALSCALE:GREGORIAN
METHOD:PUBLISH
X-WR-CALNAME:Kuća umjetnosti Arsen
X-ORIGINAL-URL:https://kucaarsen.hr
X-WR-CALDESC:Događaji za Kuća umjetnosti Arsen
BEGIN:VTIMEZONE
TZID:Europe/Zagreb
BEGIN:DAYLIGHT
TZOFFSETFROM:+0100
TZOFFSETTO:+0200
TZNAME:CEST
DTSTART:20260329T010000
END:DAYLIGHT
BEGIN:STANDARD
TZOFFSETFROM:+0200
TZOFFSETTO:+0100
TZNAME:CET
DTSTART:20261025T010000
END:STANDARD
END:VTIMEZONE
BEGIN:VEVENT
DTSTART;TZID=Europe/Zagreb:20260207T110000
DTEND;TZID=Europe/Zagreb:20260207T110000
DTSTAMP:20260421T184325
CREATED:20260126T100228Z
LAST-MODIFIED:20260126T100228Z
UID:12510-1770462000-1770462000@kucaarsen.hr
SUMMARY:Matovilka
DESCRIPTION:O PREDSTAVI \nNajnovija predstava iz “Smješkovog” kazališnog kovčega je bajka o ljubavi\, o jednoj neustrašivoj djevojci te o vječnoj borbi dobra i zla sa sretnim završetkom. Ona progovara o tome kakve sve posljedice može imati naša nekontrolirana želja\, odnosno\, govori kako svaka želje ima cijenu koju moramo platiti.  \nNaravno\, najskuplje se plaćaju pohlepa i samoživost. Pa ipak\, ova bajka ne priča samo o tome\, već i o odrastanju Matovilke\, čudesne i prekrasne djevojke s najdužom kosom na svijetu koja uspijeva nadmudriti zlu vješticu i izboriti se za svoju ljubav i slobodu.  \nMatovilka je priča o životu kakav je; ponekad duhovit i veseo\, a ponekad težak i pun prepreka\, ali važno se podsjetiti – prepreka koje uz mudrost i dobre prijatelje na kraju ipak uvijek možemo premostiti.   \n  \nRežija: Slađana Kilibarda \nGlume: Dora Dimić Rakar\, Ivana Gulin\, Martin Kuhar \nDOB: 4+ \n  \nULAZNICE \nZa Klub prijatelja 3\,50€/ redovna cijena 5\,00€  \nUlaznice po redovnoj cijeni dostupne su online i na blagajni Kuće umjetnosti Arsen. \nČlanovi Kluba prijatelja popust ostvaruju uz predočenje važeće članske iskaznice na blagajni Kuće umjetnosti Arsen. \nKako bi djeca na zabavan način bila potaknuta na redovito sudjelovanje u predstavama i filmskim projekcijama\, osmišljen je program vjernosti Bubamarac klub o kojem više možete pročitati OVDJE.
URL:https://kucaarsen.hr/event/matovilka/
LOCATION:Kuća umjetnosti Arsen\, Obala hrvatske mornarice 1\, Šibenik\, 22000
CATEGORIES:Djeca i mladi,Kazalište
ATTACH;FMTTYPE=image/png:https://kucaarsen.hr/wp-content/uploads/2026/01/13.png
GEO:43.7324192;15.8902935
X-APPLE-STRUCTURED-LOCATION;VALUE=URI;X-ADDRESS=Kuća umjetnosti Arsen Obala hrvatske mornarice 1 Šibenik 22000;X-APPLE-RADIUS=500;X-TITLE=Obala hrvatske mornarice 1:geo:15.8902935,43.7324192
END:VEVENT
END:VCALENDAR