BEGIN:VCALENDAR
VERSION:2.0
PRODID:-//Kuća umjetnosti Arsen - ECPv5.5.0//NONSGML v1.0//EN
CALSCALE:GREGORIAN
METHOD:PUBLISH
X-WR-CALNAME:Kuća umjetnosti Arsen
X-ORIGINAL-URL:https://kucaarsen.hr
X-WR-CALDESC:Događaji za Kuća umjetnosti Arsen
BEGIN:VTIMEZONE
TZID:Europe/Zagreb
BEGIN:DAYLIGHT
TZOFFSETFROM:+0100
TZOFFSETTO:+0200
TZNAME:CEST
DTSTART:20260329T010000
END:DAYLIGHT
BEGIN:STANDARD
TZOFFSETFROM:+0200
TZOFFSETTO:+0100
TZNAME:CET
DTSTART:20261025T010000
END:STANDARD
END:VTIMEZONE
BEGIN:VEVENT
DTSTART;TZID=Europe/Zagreb:20260416T210000
DTEND;TZID=Europe/Zagreb:20260416T210000
DTSTAMP:20260424T072656
CREATED:20260303T133302Z
LAST-MODIFIED:20260303T134227Z
UID:12778-1776373200-1776373200@kucaarsen.hr
SUMMARY:Mario Bočić Quartet
DESCRIPTION:Saksofonist i skladatelj Mario Bočić sa svojim kvartetom 16. travnja u Kući umjetnosti Arsen predstavlja novi album Wheel of Fortune\, projekt koji potvrđuje njegovu posvećenost suvremenom jazzu i istraživanju zvučnih granica unutar bogate jazz tradicije. \nSvaki član ansambla Mario Bočić Quartet istaknuti je glazbenik s bogatim domaćim i međunarodnim iskustvom. Njihova međusobna glazbena kemija i otvorenost improvizaciji ključ su prepoznatljivog zvuka kvarteta. \nKruno Levačić jedan je od najcjenjenijih jazz bubnjara u regiji te svakoj izvedbi daje dinamičnost i fluidnost. Pijanist Hrvoje Galler svojim harmonijskim bogatstvom doprinosi suptilnoj ekspresiji i melodijskoj inventivnosti dok Zvonimir Šestak svojom preciznom kontrabas tehnikom osigurava stabilnu\, ali bogatu zvučnu osnovu. U središtu je\, pak\,  Bočićev saksofon – pripovjedački\, emotivan i izražajan\, koji gradi dijalog s ostatkom ansambla\, pretvarajući svaku skladbu u živu\, interaktivnu melodioznu priču. \nUpravo zato glazba ovog kvarteta odiše međusobnim razumijevanjem\, ljubavlju prema jazzu i dubokim poštovanjem prema trenutku stvaranja. Rezultat je album Wheel of Fortune koji nadahnjuje\, povezuje i ostaje u sjećanju te vodi slušatelja na introspektivno i kontemplativno putovanje kroz zvuk i emociju. \n  \nULAZNICE \nZa Klub prijatelja 7€ / redovna cijena 10€ \nUlaznice po redovnoj cijeni dostupne su online i na blagajni Kuće umjetnosti Arsen. \nČlanovi Kluba prijatelja ostvaruju 30% popusta na blagajni uz predočenje važeće članske iskaznice.
URL:https://kucaarsen.hr/event/mario-bocic-quartet/
LOCATION:Kuća umjetnosti Arsen\, Obala hrvatske mornarice 1\, Šibenik\, 22000
CATEGORIES:Glazba
ATTACH;FMTTYPE=image/jpeg:https://kucaarsen.hr/wp-content/uploads/2026/03/arsen_jazz_1920_1080_mario_bocic_quartet.jpg
GEO:43.7324192;15.8902935
X-APPLE-STRUCTURED-LOCATION;VALUE=URI;X-ADDRESS=Kuća umjetnosti Arsen Obala hrvatske mornarice 1 Šibenik 22000;X-APPLE-RADIUS=500;X-TITLE=Obala hrvatske mornarice 1:geo:15.8902935,43.7324192
END:VEVENT
END:VCALENDAR