BEGIN:VCALENDAR
VERSION:2.0
PRODID:-//Kuća umjetnosti Arsen - ECPv5.5.0//NONSGML v1.0//EN
CALSCALE:GREGORIAN
METHOD:PUBLISH
X-WR-CALNAME:Kuća umjetnosti Arsen
X-ORIGINAL-URL:https://kucaarsen.hr
X-WR-CALDESC:Događaji za Kuća umjetnosti Arsen
BEGIN:VTIMEZONE
TZID:Europe/Zagreb
BEGIN:DAYLIGHT
TZOFFSETFROM:+0100
TZOFFSETTO:+0200
TZNAME:CEST
DTSTART:20210328T010000
END:DAYLIGHT
BEGIN:STANDARD
TZOFFSETFROM:+0200
TZOFFSETTO:+0100
TZNAME:CET
DTSTART:20211031T010000
END:STANDARD
END:VTIMEZONE
BEGIN:VEVENT
DTSTART;TZID=Europe/Zagreb:20211213T200000
DTEND;TZID=Europe/Zagreb:20211213T200000
DTSTAMP:20260424T143346
CREATED:20211201T132237Z
LAST-MODIFIED:20211210T093129Z
UID:5256-1639425600-1639425600@kucaarsen.hr
SUMMARY:LUCE
DESCRIPTION:Zagrepčanka Lucija Ćustić Luce pjevačica je u koju se publika zbog specifičnosti vokala i karizme zaljubi na prvo slušanje. Nazivaju je i „hrvatskom Adele“\, za što je zaslužan njen osebujan glas i izvedba kojoj se dotiče velikih soul i pop diva. \nNa glazbenoj sceni prisutna je od 2015. godine kada je objavila prvi EP U bojama\, a trenutno singlom Zašto\, objavljenim sredinom studenog\, najavljuje svoj drugi studijski album. \nUz svoje autorske pjesme\, u Šibeniku će izvesti i obrade koje su postale dio njenog standardnog repertoara te pokoje iznenađenje koje trebate otkriti na koncertu. \n  \nULAZNICA: 60 kn \nFIZIČKA PRODAJNA MJESTA: \n\nCity Point\nblagajna Arsena (od 9 do 21 sat)\n\nNa fizičkim prodajnim mjestima članovi Kluba prijatelja šibenskih tvrđava uz predočenje važeće članske iskaznice ostvaruju popust pri kupnji ulaznica – cijene ulaznica su 40 kuna. \nUz ulaznicu je potrebna i COVID potvrda – detalji na na linku.
URL:https://kucaarsen.hr/event/luce/
LOCATION:Kuća umjetnosti Arsen\, Obala hrvatske mornarice 1\, Šibenik\, 22000
CATEGORIES:Glazba
ATTACH;FMTTYPE=image/jpeg:https://kucaarsen.hr/wp-content/uploads/2021/12/web-1.jpg
GEO:43.7324192;15.8902935
X-APPLE-STRUCTURED-LOCATION;VALUE=URI;X-ADDRESS=Kuća umjetnosti Arsen Obala hrvatske mornarice 1 Šibenik 22000;X-APPLE-RADIUS=500;X-TITLE=Obala hrvatske mornarice 1:geo:15.8902935,43.7324192
END:VEVENT
END:VCALENDAR