BEGIN:VCALENDAR
VERSION:2.0
PRODID:-//Kuća umjetnosti Arsen - ECPv5.5.0//NONSGML v1.0//EN
CALSCALE:GREGORIAN
METHOD:PUBLISH
X-WR-CALNAME:Kuća umjetnosti Arsen
X-ORIGINAL-URL:https://kucaarsen.hr
X-WR-CALDESC:Događaji za Kuća umjetnosti Arsen
BEGIN:VTIMEZONE
TZID:Europe/Zagreb
BEGIN:DAYLIGHT
TZOFFSETFROM:+0100
TZOFFSETTO:+0200
TZNAME:CEST
DTSTART:20220327T010000
END:DAYLIGHT
BEGIN:STANDARD
TZOFFSETFROM:+0200
TZOFFSETTO:+0100
TZNAME:CET
DTSTART:20221030T010000
END:STANDARD
END:VTIMEZONE
BEGIN:VEVENT
DTSTART;TZID=Europe/Zagreb:20220508T110000
DTEND;TZID=Europe/Zagreb:20220508T110000
DTSTAMP:20260425T005759
CREATED:20220427T081650Z
LAST-MODIFIED:20220427T081650Z
UID:6382-1652007600-1652007600@kucaarsen.hr
SUMMARY:Loši momci
DESCRIPTION:Loši momci / The Bad Guys \nPierre Perifel\, SAD\, 2022.\, 100′ \nanimirani\, sinkronizirano \n  \nDugometražni režijski debi animatora koji stoji iza serije animiranih filmova o Kung Fu Pandi\, Pierrea Perifela\, balansira humor s ozbiljnim temama. Ova osvježavajuća animirana akcijska komedija prati neslavnu petorku: elegantnog džeparoša gospodina Vuka\, iskusnog obijača sefova gospodina Zmiju\, majstora prerušavanja gospodina Morskog psa\, snažnog gospodina kratkog fitilja Piranu i gospođu Tarantulu\, hackericu britkog jezika koju zovu Webs. Ova šašava ekipa životinja odmetnika ima svoju do sad najizazovniju misiju – postati dobri građani. Nakon godina pljačkanja i haranja\, najtraženiji kriminalci svijeta su ulovljeni. U zatvoru\, u zamjenu za njihovu slobodu\, Vuk obećaje da će loši momci postati dobri\, no ovo obećanje ne namjerava ispuniti. Pod mentorstvom arogantnog\, ali jako slatkog zamorca Profesora Marmelata\, loši momci kreću u misiju i nastoje uvjeriti svijet da su sada uzorni građani\, a ne kriminalci. Usred te misije Vuk počinje shvaćati da će se tako možda ostvariti i njegova najveća želja – biti prihvaćen. Kada novi zlikovac dođe u njihov grad\, hoće li Vuk moći uvjeriti ostatak ekipe da postanu dobri momci? \nULAZNICA: 15 kn
URL:https://kucaarsen.hr/event/losi-momci/
LOCATION:Kuća umjetnosti Arsen\, Obala hrvatske mornarice 1\, Šibenik\, 22000
CATEGORIES:Djeca i mladi,Film
ATTACH;FMTTYPE=image/jpeg:https://kucaarsen.hr/wp-content/uploads/2022/04/bad-guys-169.jpg
GEO:43.7324192;15.8902935
X-APPLE-STRUCTURED-LOCATION;VALUE=URI;X-ADDRESS=Kuća umjetnosti Arsen Obala hrvatske mornarice 1 Šibenik 22000;X-APPLE-RADIUS=500;X-TITLE=Obala hrvatske mornarice 1:geo:15.8902935,43.7324192
END:VEVENT
END:VCALENDAR