BEGIN:VCALENDAR
VERSION:2.0
PRODID:-//Kuća umjetnosti Arsen - ECPv5.5.0//NONSGML v1.0//EN
CALSCALE:GREGORIAN
METHOD:PUBLISH
X-WR-CALNAME:Kuća umjetnosti Arsen
X-ORIGINAL-URL:https://kucaarsen.hr
X-WR-CALDESC:Događaji za Kuća umjetnosti Arsen
BEGIN:VTIMEZONE
TZID:Europe/Zagreb
BEGIN:DAYLIGHT
TZOFFSETFROM:+0100
TZOFFSETTO:+0200
TZNAME:CEST
DTSTART:20240331T010000
END:DAYLIGHT
BEGIN:STANDARD
TZOFFSETFROM:+0200
TZOFFSETTO:+0100
TZNAME:CET
DTSTART:20241027T010000
END:STANDARD
END:VTIMEZONE
BEGIN:VEVENT
DTSTART;TZID=Europe/Zagreb:20241228T180000
DTEND;TZID=Europe/Zagreb:20241228T180000
DTSTAMP:20260423T111518
CREATED:20241127T124158Z
LAST-MODIFIED:20241127T124240Z
UID:10952-1735408800-1735408800@kucaarsen.hr
SUMMARY:Konklava
DESCRIPTION:Konklava\, r. Edward Berger\, UK\, SAD\, 2024.\, 120′ \n \nAustrijsko-švicarski oskarovac Edward Berger (Na zapadu ništa novo\, 2022.) u svom novu ostvarenju zalazi iza zatvorenih vrata Vatikana\, a uz napetu radnju prepunu iznenadnih obrata gledateljima servira uzbudljiv psihološki triler o tajnama\, intrigama i spletkama iz središta Svete Stolice\, s virtuoznim glumačkim izvedbama. \nKada papa iznenada premine\, članovi Kardinalskog zbora okupljaju se u Vatikanu kako bi izabrali nasljednika i oblikovali budućnost Crkve. U potpunoj tajnosti\, iza zatvorenih vrata Sikstinske kapele\, kardinali iz cijelog svijeta bore se za najmoćniju poziciju unutar Crkve\, kroz ritual koji se prakticira stoljećima. Kardinal Lawrence (Ralph Fiennes) zadužen je za ovu ključnu konklavu. Među kandidatima se ističu kardinali Bellini (Stanley Tucci)\, Trembley (John Lithgow)\, Tedesco (Sergio Castellitto) i Adeyemi (Lucian Msamati)\, koji bi mogao postati prvi afrički papa u povijesti. Svatko od njih krije vlastite ambicije\, ali i tajne koje bi im mogle uništiti šanse za izbor. Kako šokantne istine izlaze na vidjelo\, a političke igre preuzimaju kontrolu\, Lawrence se suočava sa sve većim sumnjama u svoju vjeru i svrhu. Kada otkrije da je i pokojni papa skrivao mračne tajne\, suočava se s nezamislivim otkrićem koje će promijeniti sve. \nAdaptacija istoimenog bestselera Roberta Harrisa “grešno je zabavan” (Vulture)\, “sočan” (The Guardian) triler o vjeri i sumnji\, tradiciji i budućnosti\, religiji i politici. \n  \nULAZNICE: Za Klub prijatelja 3\,50€ / redovna cijena 4€  \nUlaznice po redovnoj cijeni dostupne su online i na blagajni Kuće umjetnosti Arsen. \nČlanovi Kluba prijatelja popust ostvaruju na fizičkim prodajnim mjestima uz predočenje važeće članske iskaznice. \n 
URL:https://kucaarsen.hr/event/konklava/
LOCATION:Kuća umjetnosti Arsen\, Obala hrvatske mornarice 1\, Šibenik\, 22000
CATEGORIES:Film
ATTACH;FMTTYPE=image/jpeg:https://kucaarsen.hr/wp-content/uploads/2024/11/Konklava.jpg
GEO:43.7324192;15.8902935
X-APPLE-STRUCTURED-LOCATION;VALUE=URI;X-ADDRESS=Kuća umjetnosti Arsen Obala hrvatske mornarice 1 Šibenik 22000;X-APPLE-RADIUS=500;X-TITLE=Obala hrvatske mornarice 1:geo:15.8902935,43.7324192
END:VEVENT
END:VCALENDAR