BEGIN:VCALENDAR
VERSION:2.0
PRODID:-//Kuća umjetnosti Arsen - ECPv5.5.0//NONSGML v1.0//EN
CALSCALE:GREGORIAN
METHOD:PUBLISH
X-WR-CALNAME:Kuća umjetnosti Arsen
X-ORIGINAL-URL:https://kucaarsen.hr
X-WR-CALDESC:Događaji za Kuća umjetnosti Arsen
BEGIN:VTIMEZONE
TZID:Europe/Zagreb
BEGIN:DAYLIGHT
TZOFFSETFROM:+0100
TZOFFSETTO:+0200
TZNAME:CEST
DTSTART:20260329T010000
END:DAYLIGHT
BEGIN:STANDARD
TZOFFSETFROM:+0200
TZOFFSETTO:+0100
TZNAME:CET
DTSTART:20261025T010000
END:STANDARD
END:VTIMEZONE
BEGIN:VEVENT
DTSTART;TZID=Europe/Zagreb:20260505T200000
DTEND;TZID=Europe/Zagreb:20260505T200000
DTSTAMP:20260421T140335
CREATED:20260421T071745Z
LAST-MODIFIED:20260421T073349Z
UID:12980-1778011200-1778011200@kucaarsen.hr
SUMMARY:Koncert polaznika radionice Moje pjesme\, moji snovi 3
DESCRIPTION:Treće izdanje glazbene radionice Moje pjesme\, moji snovi u Kući umjetnosti Arsen okupilo je 15 polaznika koji su tijekom dva mjeseca\, pod mentorstvom Nataše Cvitan i Mate Anića\, intenzivno radili na razvoju svojih vokalnih vještina\, interpretacije i scenskog nastupa. Kroz zajednički i individualni rad bavili su se tehnikom pjevanja\, disanjem\, dikcijom\, emocijom i savladavanjem treme\, gradeći samopouzdanje i vlastiti glazbeni izraz\, pjesmu po pjesmu. \n\nRezultat njihova rada publika će imati priliku čuti na završnom koncertu u utorak\, 5. svibnja u 20 sati\, u Kući umjetnosti Arsen. \nUlaz na koncert je slobodan\, do ispunjenja kapaciteta dvorane.
URL:https://kucaarsen.hr/event/koncert-polaznika-radionice-moje-pjesme-moji-snovi-3/
LOCATION:Kuća umjetnosti Arsen\, Obala hrvatske mornarice 1\, Šibenik\, 22000
CATEGORIES:Glazba
ATTACH;FMTTYPE=image/jpeg:https://kucaarsen.hr/wp-content/uploads/2026/02/moje-pjesme-moji-snovi-arsen.jpg
GEO:43.7324192;15.8902935
X-APPLE-STRUCTURED-LOCATION;VALUE=URI;X-ADDRESS=Kuća umjetnosti Arsen Obala hrvatske mornarice 1 Šibenik 22000;X-APPLE-RADIUS=500;X-TITLE=Obala hrvatske mornarice 1:geo:15.8902935,43.7324192
END:VEVENT
END:VCALENDAR