BEGIN:VCALENDAR
VERSION:2.0
PRODID:-//Kuća umjetnosti Arsen - ECPv5.5.0//NONSGML v1.0//EN
CALSCALE:GREGORIAN
METHOD:PUBLISH
X-WR-CALNAME:Kuća umjetnosti Arsen
X-ORIGINAL-URL:https://kucaarsen.hr
X-WR-CALDESC:Događaji za Kuća umjetnosti Arsen
BEGIN:VTIMEZONE
TZID:Europe/Zagreb
BEGIN:DAYLIGHT
TZOFFSETFROM:+0100
TZOFFSETTO:+0200
TZNAME:CEST
DTSTART:20230326T010000
END:DAYLIGHT
BEGIN:STANDARD
TZOFFSETFROM:+0200
TZOFFSETTO:+0100
TZNAME:CET
DTSTART:20231029T010000
END:STANDARD
END:VTIMEZONE
BEGIN:VEVENT
DTSTART;TZID=Europe/Zagreb:20230121T203000
DTEND;TZID=Europe/Zagreb:20230121T203000
DTSTAMP:20260423T102422
CREATED:20230329T115025Z
LAST-MODIFIED:20230329T115659Z
UID:8318-1674333000-1674333000@kucaarsen.hr
SUMMARY:Kit
DESCRIPTION:Kit\, r. Darren Aronofsky\, SAD\, 2022.\, 117′ (15) \nKit progovara o tome kako se ozbiljno pretili\, povučeni učitelj engleskog jezika bori sa zdravstvenim problemima\, paralelno se pokušavajući ponovno povezati sa svojom otuđenom kćeri. Novi film redatelja Darrena Aronofskog\, temeljen je na hvaljenoj drami Samuela D. Huntera. Naslovnu ulogu tumači Brendan Fraser\, i to u izvedbi koja će nesumnjivo ostati zabilježena kao jedan od vrhunaca u njegovoj karijeri za koju je nedavno i nagrađen Oscarom za najbolju mušku ulogu. Charlie nastavu održava isključivo online\, a web kameru gotovo nikada ne pali. Radi pretilosti njegovo je zdravlje ozbiljno ugroženo\, stoga je možda posljednji trenutak da se pomiri s bivšom suprugom alkoholičarkom (Samantha Morton) i kćerkom (Sadie Sink\, poznata iz serijala Stranger Things) koje je ostavio radi svog sada pokojnog ljubavnika. U svijetu sve veće društvene izolacije koju prati i opasan miks tehnologije\, uspostavljanja digitalnog “sebstva” i prakse body shaminga\, Kit – koji naslovom ostavlja posvetu Charlijevom omiljenom romanu Moby Dick – daje suosjećajni portret čovjeka u labilnom stanju\, ispunjenog boli\, tugom i dubokim osjećajem nelagode. Film je premijerno prikazan na Venecijanskom filmskom festivalu\, gdje je publika nagradila ekipu filma višeminutnim ovacijama.   \nULAZNICE: 3€ (22\,60 kn) / 3\,50€  (26\,37 kn) \nDostupne online\, u City Pointu i na blagajni Kuće umjetnosti Arsen. \nČlanovi Kluba prijatelja šibenskih tvrđava uz predočenje važeće članske iskaznice pri kupnji ulaznica za film na fizičkim prodajnim mjestima ostvaruju popust i za njih cijena iznosi 3 eura (22\,6 kn). \nOstatak programa Art kina Arsen pogledajte ovdje. \n\nART KINO ARSEN\nCjelogodišnji program art kina Arsen sastoji se od aktualnih distributerskih naslova iz niše nezavisnog igranog i dokumentarnog filma\, recentnog festivalskog programa\, izbora iz kinotečnog programa te matineja filmova za djecu\, uz dodatak edukativnih programa za odrasle i djecu. Koordinatorica programa je Jelena Svirčić. \nProgram se dijeli u 4 pravca: redovni i dokumentarni program\, kinotečni program Češljaonica i matineje za djecu u sklopu programa Bubamarac. \nČEŠLJAONICA – bitno iz povijesti filma \nTemeljni zadatak kinotečnom filmskom programu Češljaonica jest svim zainteresiranim osobama na velikom platnu Kuće umjetnosti Arsen projicirati niz iznimnih i značajnih filmskih ostvarenja odabranih metodom svojevrsnog češljanja kroz povijest svjetske kinematografije. \nOdabiratelj i uvodničar pred projekcije je Ante Storić\, a filmove gledamo jednom mjesečno.
URL:https://kucaarsen.hr/event/kit-2/
LOCATION:Kuća umjetnosti Arsen\, Obala hrvatske mornarice 1\, Šibenik\, 22000
CATEGORIES:Film
ATTACH;FMTTYPE=image/jpeg:https://kucaarsen.hr/wp-content/uploads/2022/12/kit.jpg
GEO:43.7324192;15.8902935
X-APPLE-STRUCTURED-LOCATION;VALUE=URI;X-ADDRESS=Kuća umjetnosti Arsen Obala hrvatske mornarice 1 Šibenik 22000;X-APPLE-RADIUS=500;X-TITLE=Obala hrvatske mornarice 1:geo:15.8902935,43.7324192
END:VEVENT
END:VCALENDAR